BEGIN:VCALENDAR
VERSION:2.0
PRODID:-//C3 Church Carlingford - ECPv6.15.20//NONSGML v1.0//EN
CALSCALE:GREGORIAN
METHOD:PUBLISH
X-ORIGINAL-URL:https://c3carlingford.org.au
X-WR-CALDESC:Events for C3 Church Carlingford
REFRESH-INTERVAL;VALUE=DURATION:PT1H
X-Robots-Tag:noindex
X-PUBLISHED-TTL:PT1H
BEGIN:VTIMEZONE
TZID:Australia/Sydney
BEGIN:STANDARD
TZOFFSETFROM:+1100
TZOFFSETTO:+1000
TZNAME:AEST
DTSTART:20230401T160000
END:STANDARD
BEGIN:DAYLIGHT
TZOFFSETFROM:+1000
TZOFFSETTO:+1100
TZNAME:AEDT
DTSTART:20230930T160000
END:DAYLIGHT
BEGIN:STANDARD
TZOFFSETFROM:+1100
TZOFFSETTO:+1000
TZNAME:AEST
DTSTART:20240406T160000
END:STANDARD
BEGIN:DAYLIGHT
TZOFFSETFROM:+1000
TZOFFSETTO:+1100
TZNAME:AEDT
DTSTART:20241005T160000
END:DAYLIGHT
BEGIN:STANDARD
TZOFFSETFROM:+1100
TZOFFSETTO:+1000
TZNAME:AEST
DTSTART:20250405T160000
END:STANDARD
BEGIN:DAYLIGHT
TZOFFSETFROM:+1000
TZOFFSETTO:+1100
TZNAME:AEDT
DTSTART:20251004T160000
END:DAYLIGHT
END:VTIMEZONE
BEGIN:VEVENT
DTSTART;VALUE=DATE:20240630
DTEND;VALUE=DATE:20240701
DTSTAMP:20260423T055201
CREATED:20240603T030851Z
LAST-MODIFIED:20240606T045137Z
UID:3206-1719705600-1719791999@c3carlingford.org.au
SUMMARY:End of Financial Year
DESCRIPTION:Tax Deductible Giving \nWith the end of the financial year approaching you can support our tax-deductible giving opportunities to further the vision and mission of Christ through our church \n\nSRE (Scripture) ministry\nWork with COACH\nBenevolent work in the community\n\nTo give today\, go to https://c3carlingford.org.au/giving/ and click the button that says “Tax Deductible Giving”
URL:https://c3carlingford.org.au/event/end-of-financial-year/
ATTACH;FMTTYPE=image/png:https://c3carlingford.org.au/wp-content/uploads/2024/06/EOFY.png
ORGANIZER;CN="Justin Ware":MAILTO:jware@c3carlingford.org.au
END:VEVENT
END:VCALENDAR