BEGIN:VCALENDAR
VERSION:2.0
PRODID:-//C3 Church Carlingford - ECPv6.15.20//NONSGML v1.0//EN
CALSCALE:GREGORIAN
METHOD:PUBLISH
X-WR-CALNAME:C3 Church Carlingford
X-ORIGINAL-URL:https://c3carlingford.org.au
X-WR-CALDESC:Events for C3 Church Carlingford
REFRESH-INTERVAL;VALUE=DURATION:PT1H
X-Robots-Tag:noindex
X-PUBLISHED-TTL:PT1H
BEGIN:VTIMEZONE
TZID:Australia/Sydney
BEGIN:STANDARD
TZOFFSETFROM:+1100
TZOFFSETTO:+1000
TZNAME:AEST
DTSTART:20230401T160000
END:STANDARD
BEGIN:DAYLIGHT
TZOFFSETFROM:+1000
TZOFFSETTO:+1100
TZNAME:AEDT
DTSTART:20230930T160000
END:DAYLIGHT
BEGIN:STANDARD
TZOFFSETFROM:+1100
TZOFFSETTO:+1000
TZNAME:AEST
DTSTART:20240406T160000
END:STANDARD
BEGIN:DAYLIGHT
TZOFFSETFROM:+1000
TZOFFSETTO:+1100
TZNAME:AEDT
DTSTART:20241005T160000
END:DAYLIGHT
BEGIN:STANDARD
TZOFFSETFROM:+1100
TZOFFSETTO:+1000
TZNAME:AEST
DTSTART:20250405T160000
END:STANDARD
BEGIN:DAYLIGHT
TZOFFSETFROM:+1000
TZOFFSETTO:+1100
TZNAME:AEDT
DTSTART:20251004T160000
END:DAYLIGHT
END:VTIMEZONE
BEGIN:VEVENT
DTSTART;TZID=Australia/Sydney:20240723T193000
DTEND;TZID=Australia/Sydney:20240924T213000
DTSTAMP:20260420T034755
CREATED:20240623T221038Z
LAST-MODIFIED:20240624T033315Z
UID:3243-1721763000-1727213400@c3carlingford.org.au
SUMMARY:Steps To Freedom In Christ Course
DESCRIPTION:Becoming more like Christ is a lifelong venture but sometimes we can find ourselves “stuck”\, struggling to connect with the truth of who we are in Christ. The Steps to Freedom in Christ Course is specifically designed to help Christians take hold of their identity in Christ\, resolve personal and spiritual conflicts\, and learn strategies for renewing their mind to break free from patterns of negative thinking and behaviour. \nCome and join us on Tuesday evenings during term 3 at the Ministry Centre for this life-altering course! \nThe cost is $25 and you can register HERE.
URL:https://c3carlingford.org.au/event/steps-to-freedom-in-christ/
LOCATION:Ministry Centre\, 7 Loftus Road\, Pennant Hills\, NSW\, 2120\, Australia
ATTACH;FMTTYPE=image/png:https://c3carlingford.org.au/wp-content/uploads/2024/06/WEB.png
ORGANIZER;CN="Jen Irving":MAILTO:JIrving@c3carlingford.org.au
END:VEVENT
BEGIN:VEVENT
DTSTART;TZID=Australia/Sydney:20240725T193000
DTEND;TZID=Australia/Sydney:20240926T210000
DTSTAMP:20260420T034755
CREATED:20240624T030440Z
LAST-MODIFIED:20240630T233124Z
UID:3252-1721935800-1727384400@c3carlingford.org.au
SUMMARY:Circuit Breaker Course
DESCRIPTION:Have you ever lost your temper and said something you later regretted? \nAre you having conflicts that escalate quickly? \nThe Circuit Breaker course will help you! This 10 week course will teach you new tools to mend relationships\, resolve conflict and stop you blowing your fuse. \nStarts Thursday 25th July. Register here before Friday 19th July.
URL:https://c3carlingford.org.au/event/circuit-breaker-course/
ATTACH;FMTTYPE=image/png:https://c3carlingford.org.au/wp-content/uploads/2024/06/2307-Circuit-Breaker-Web-copy.png
END:VEVENT
BEGIN:VEVENT
DTSTART;TZID=Australia/Sydney:20240908T123000
DTEND;TZID=Australia/Sydney:20240908T144500
DTSTAMP:20260420T034755
CREATED:20240603T021930Z
LAST-MODIFIED:20240804T232531Z
UID:3203-1725798600-1725806700@c3carlingford.org.au
SUMMARY:Welcome Lunch
DESCRIPTION:Our Welcome Lunches are designed for people who are new to church!\nCome and meet our pastors and key leaders over lunch on Sunday 8th of September at our Ministry Centre in Pennant Hills. You will have the opportunity to meet our leaders\, ask questions and find out all about our church.\nLunch will start promptly at 12:30pm and is free but we do need RSVPs for catering purposes by Tuesday 3rd of September.\nIf you need childcare or have specific dietary requirements\, please let us know! Book your free spot HERE.
URL:https://c3carlingford.org.au/event/welcome-lunch-2/
LOCATION:Ministry Centre\, 7 Loftus Road\, Pennant Hills\, NSW\, 2120\, Australia
ATTACH;FMTTYPE=image/jpeg:https://c3carlingford.org.au/wp-content/uploads/2024/06/24-WL_web_details.jpg
ORGANIZER;CN="Jen Irving":MAILTO:JIrving@c3carlingford.org.au
END:VEVENT
END:VCALENDAR