BEGIN:VCALENDAR
VERSION:2.0
PRODID:-//C3 Church Carlingford - ECPv6.15.20//NONSGML v1.0//EN
CALSCALE:GREGORIAN
METHOD:PUBLISH
X-WR-CALNAME:C3 Church Carlingford
X-ORIGINAL-URL:https://c3carlingford.org.au
X-WR-CALDESC:Events for C3 Church Carlingford
REFRESH-INTERVAL;VALUE=DURATION:PT1H
X-Robots-Tag:noindex
X-PUBLISHED-TTL:PT1H
BEGIN:VTIMEZONE
TZID:Australia/Sydney
BEGIN:STANDARD
TZOFFSETFROM:+1100
TZOFFSETTO:+1000
TZNAME:AEST
DTSTART:20230401T160000
END:STANDARD
BEGIN:DAYLIGHT
TZOFFSETFROM:+1000
TZOFFSETTO:+1100
TZNAME:AEDT
DTSTART:20230930T160000
END:DAYLIGHT
BEGIN:STANDARD
TZOFFSETFROM:+1100
TZOFFSETTO:+1000
TZNAME:AEST
DTSTART:20240406T160000
END:STANDARD
BEGIN:DAYLIGHT
TZOFFSETFROM:+1000
TZOFFSETTO:+1100
TZNAME:AEDT
DTSTART:20241005T160000
END:DAYLIGHT
BEGIN:STANDARD
TZOFFSETFROM:+1100
TZOFFSETTO:+1000
TZNAME:AEST
DTSTART:20250405T160000
END:STANDARD
BEGIN:DAYLIGHT
TZOFFSETFROM:+1000
TZOFFSETTO:+1100
TZNAME:AEDT
DTSTART:20251004T160000
END:DAYLIGHT
END:VTIMEZONE
BEGIN:VEVENT
DTSTART;TZID=Australia/Sydney:20240928T180000
DTEND;TZID=Australia/Sydney:20240928T210000
DTSTAMP:20260421T093446
CREATED:20240916T050358Z
LAST-MODIFIED:20240916T050358Z
UID:3652-1727546400-1727557200@c3carlingford.org.au
SUMMARY:YAS - Young Adults Social | Bingo Ball
DESCRIPTION:It’s time to dress up in your finest suits or gowns and join us for the event of the year\, the Young Adults Bingo Ball! It will be a ‘sophisticated’ evening with a delicious meal\, delightful company and a lively bingo game. \nIt will be on Saturday 28th September from 6:00-9:00 and the cost is $20pp\, register HERE.
URL:https://c3carlingford.org.au/event/yas-young-adults-social-bingo-ball/
LOCATION:Ministry Centre\, 7 Loftus Road\, Pennant Hills\, NSW\, 2120\, Australia
ATTACH;FMTTYPE=image/png:https://c3carlingford.org.au/wp-content/uploads/2024/09/Bingo-Ball.png
ORGANIZER;CN="Andrea Molteno":MAILTO:amolteno@c3carlingford.org.au
END:VEVENT
END:VCALENDAR