BEGIN:VCALENDAR
VERSION:2.0
PRODID:-//C3 Church Carlingford - ECPv6.15.20//NONSGML v1.0//EN
CALSCALE:GREGORIAN
METHOD:PUBLISH
X-ORIGINAL-URL:https://c3carlingford.org.au
X-WR-CALDESC:Events for C3 Church Carlingford
REFRESH-INTERVAL;VALUE=DURATION:PT1H
X-Robots-Tag:noindex
X-PUBLISHED-TTL:PT1H
BEGIN:VTIMEZONE
TZID:Australia/Sydney
BEGIN:STANDARD
TZOFFSETFROM:+1100
TZOFFSETTO:+1000
TZNAME:AEST
DTSTART:20240406T160000
END:STANDARD
BEGIN:DAYLIGHT
TZOFFSETFROM:+1000
TZOFFSETTO:+1100
TZNAME:AEDT
DTSTART:20241005T160000
END:DAYLIGHT
BEGIN:STANDARD
TZOFFSETFROM:+1100
TZOFFSETTO:+1000
TZNAME:AEST
DTSTART:20250405T160000
END:STANDARD
BEGIN:DAYLIGHT
TZOFFSETFROM:+1000
TZOFFSETTO:+1100
TZNAME:AEDT
DTSTART:20251004T160000
END:DAYLIGHT
BEGIN:STANDARD
TZOFFSETFROM:+1100
TZOFFSETTO:+1000
TZNAME:AEST
DTSTART:20260404T160000
END:STANDARD
BEGIN:DAYLIGHT
TZOFFSETFROM:+1000
TZOFFSETTO:+1100
TZNAME:AEDT
DTSTART:20261003T160000
END:DAYLIGHT
END:VTIMEZONE
BEGIN:VEVENT
DTSTART;VALUE=DATE:20250225
DTEND;VALUE=DATE:20250409
DTSTAMP:20260422T044627
CREATED:20241229T215124Z
LAST-MODIFIED:20250114T000659Z
UID:4077-1740441600-1744156799@c3carlingford.org.au
SUMMARY:ALPHA Course
DESCRIPTION:We are excited to be running the Alpha Course in February and March. This is a great opportunity for us to explore life\, faith and meaning together. If you have never done an Alpha Course\, then this is a chance to go deeper to start the new year – and if you have why not invite a friend to do Alpha with you? This could be life changing! \nThe course will commence on the 25th of February and run each week for 7 weeks\, at 7:30pm – 9pm. We will meet in person at the C3 Church Carlingford Ministry Centre – 7 Loftus Road Pennant Hills\, and also online via Zoom. \nLet us know you are interested by registering here.
URL:https://c3carlingford.org.au/event/alpha-course-2/
LOCATION:Ministry Centre and Online\, Australia
ATTACH;FMTTYPE=image/png:https://c3carlingford.org.au/wp-content/uploads/2024/12/Alpha3.png
END:VEVENT
BEGIN:VEVENT
DTSTART;VALUE=DATE:20250321
DTEND;VALUE=DATE:20250331
DTSTAMP:20260422T044627
CREATED:20250224T014745Z
LAST-MODIFIED:20250224T014745Z
UID:4283-1742515200-1743379199@c3carlingford.org.au
SUMMARY:Worship Service Relocation
DESCRIPTION:The school are holding their musical in the school hall over the weekends of 12-23 & 28-30 March.  We will be relocating our services to accommodate the musical! Check out the details below so you know where to find us during this time. \nYouth | 21 March – Ministry Centre – 7 Loftus rd Pennant Hills\nAM Service | 23 March – Carlingford High COLA (outside the hall)\nPM Service | 23 March – Ministry Centre – 7 Loftus rd Pennant Hills\nYouth | 28 March – Ministry Centre – 7 Loftus rd Pennant Hills\nAM Service | 30 March – Carlingford High COLA (outside the hall)\nPM Service | 30 March – Ministry Centre – 7 Loftus rd Pennant Hills
URL:https://c3carlingford.org.au/event/worship-service-relocation/
ATTACH;FMTTYPE=image/jpeg:https://c3carlingford.org.au/wp-content/uploads/2025/02/2503-Worship-Service-Relocation-Web.jpg
END:VEVENT
END:VCALENDAR