BEGIN:VCALENDAR
VERSION:2.0
PRODID:-//C3 Church Carlingford - ECPv6.15.20//NONSGML v1.0//EN
CALSCALE:GREGORIAN
METHOD:PUBLISH
X-WR-CALNAME:C3 Church Carlingford
X-ORIGINAL-URL:https://c3carlingford.org.au
X-WR-CALDESC:Events for C3 Church Carlingford
REFRESH-INTERVAL;VALUE=DURATION:PT1H
X-Robots-Tag:noindex
X-PUBLISHED-TTL:PT1H
BEGIN:VTIMEZONE
TZID:Australia/Sydney
BEGIN:STANDARD
TZOFFSETFROM:+1100
TZOFFSETTO:+1000
TZNAME:AEST
DTSTART:20240406T160000
END:STANDARD
BEGIN:DAYLIGHT
TZOFFSETFROM:+1000
TZOFFSETTO:+1100
TZNAME:AEDT
DTSTART:20241005T160000
END:DAYLIGHT
BEGIN:STANDARD
TZOFFSETFROM:+1100
TZOFFSETTO:+1000
TZNAME:AEST
DTSTART:20250405T160000
END:STANDARD
BEGIN:DAYLIGHT
TZOFFSETFROM:+1000
TZOFFSETTO:+1100
TZNAME:AEDT
DTSTART:20251004T160000
END:DAYLIGHT
BEGIN:STANDARD
TZOFFSETFROM:+1100
TZOFFSETTO:+1000
TZNAME:AEST
DTSTART:20260404T160000
END:STANDARD
BEGIN:DAYLIGHT
TZOFFSETFROM:+1000
TZOFFSETTO:+1100
TZNAME:AEDT
DTSTART:20261003T160000
END:DAYLIGHT
END:VTIMEZONE
BEGIN:VEVENT
DTSTART;TZID=Australia/Sydney:20250429T193000
DTEND;TZID=Australia/Sydney:20250429T210000
DTSTAMP:20260419T170602
CREATED:20250317T003422Z
LAST-MODIFIED:20250330T223523Z
UID:4362-1745955000-1745960400@c3carlingford.org.au
SUMMARY:Come Follow Me Course
DESCRIPTION:The Come Follow Me Course is designed for people who come from a Muslim background and who have started to follow Jesus. It will be held in Pennant Hills on Tuesday evenings from 7:30-9:00pm starting 29th April running through until the 23rd of September \nThere is a small amount of easy homework each week – 15-30 mins/week – so please be prepared to set aside this time as you will gain the most from the course. There is also a workbook\, available in both English and Farsi\, which costs $10. \nRegister via this link.
URL:https://c3carlingford.org.au/event/come-follow-me-2025/
LOCATION:Ministry Centre\, 7 Loftus Road\, Pennant Hills\, NSW\, 2120\, Australia
ATTACH;FMTTYPE=image/jpeg:https://c3carlingford.org.au/wp-content/uploads/2024/03/Come-follow-me.jpg
ORGANIZER;CN="Jen Irving":MAILTO:JIrving@c3carlingford.org.au
END:VEVENT
END:VCALENDAR