BEGIN:VCALENDAR
VERSION:2.0
PRODID:-//C3 Church Carlingford - ECPv6.15.20//NONSGML v1.0//EN
CALSCALE:GREGORIAN
METHOD:PUBLISH
X-ORIGINAL-URL:https://c3carlingford.org.au
X-WR-CALDESC:Events for C3 Church Carlingford
REFRESH-INTERVAL;VALUE=DURATION:PT1H
X-Robots-Tag:noindex
X-PUBLISHED-TTL:PT1H
BEGIN:VTIMEZONE
TZID:Australia/Sydney
BEGIN:STANDARD
TZOFFSETFROM:+1100
TZOFFSETTO:+1000
TZNAME:AEST
DTSTART:20240406T160000
END:STANDARD
BEGIN:DAYLIGHT
TZOFFSETFROM:+1000
TZOFFSETTO:+1100
TZNAME:AEDT
DTSTART:20241005T160000
END:DAYLIGHT
BEGIN:STANDARD
TZOFFSETFROM:+1100
TZOFFSETTO:+1000
TZNAME:AEST
DTSTART:20250405T160000
END:STANDARD
BEGIN:DAYLIGHT
TZOFFSETFROM:+1000
TZOFFSETTO:+1100
TZNAME:AEDT
DTSTART:20251004T160000
END:DAYLIGHT
BEGIN:STANDARD
TZOFFSETFROM:+1100
TZOFFSETTO:+1000
TZNAME:AEST
DTSTART:20260404T160000
END:STANDARD
BEGIN:DAYLIGHT
TZOFFSETFROM:+1000
TZOFFSETTO:+1100
TZNAME:AEDT
DTSTART:20261003T160000
END:DAYLIGHT
END:VTIMEZONE
BEGIN:VEVENT
DTSTART;TZID=Australia/Sydney:20250507T200000
DTEND;TZID=Australia/Sydney:20250507T210000
DTSTAMP:20260421T103146
CREATED:20241229T214210Z
LAST-MODIFIED:20250324T023926Z
UID:4065-1746648000-1746651600@c3carlingford.org.au
SUMMARY:Prayer Gathering // May
DESCRIPTION:Praying is one of the most engaging experiences of our faith.  We meet to pray on the 1st Wednesday of each month. \nIn our monthly prayer gatherings\, we pray for the needs of the church and the world and our May prayer gathering is on Wednesday 7th at 8pm at the Ministry Centre (7 Loftus Road Pennant Hills) or via ZOOM. \nThe ZOOM link is available in our weekly church email.
URL:https://c3carlingford.org.au/event/prayer-gathering-may/
LOCATION:Ministry Centre and Online\, Australia
ATTACH;FMTTYPE=image/jpeg:https://c3carlingford.org.au/wp-content/uploads/2024/12/25-Prayer-Web.jpg
END:VEVENT
END:VCALENDAR