BEGIN:VCALENDAR
VERSION:2.0
PRODID:-//C3 Church Carlingford - ECPv6.15.20//NONSGML v1.0//EN
CALSCALE:GREGORIAN
METHOD:PUBLISH
X-ORIGINAL-URL:https://c3carlingford.org.au
X-WR-CALDESC:Events for C3 Church Carlingford
REFRESH-INTERVAL;VALUE=DURATION:PT1H
X-Robots-Tag:noindex
X-PUBLISHED-TTL:PT1H
BEGIN:VTIMEZONE
TZID:Australia/Sydney
BEGIN:STANDARD
TZOFFSETFROM:+1100
TZOFFSETTO:+1000
TZNAME:AEST
DTSTART:20240406T160000
END:STANDARD
BEGIN:DAYLIGHT
TZOFFSETFROM:+1000
TZOFFSETTO:+1100
TZNAME:AEDT
DTSTART:20241005T160000
END:DAYLIGHT
BEGIN:STANDARD
TZOFFSETFROM:+1100
TZOFFSETTO:+1000
TZNAME:AEST
DTSTART:20250405T160000
END:STANDARD
BEGIN:DAYLIGHT
TZOFFSETFROM:+1000
TZOFFSETTO:+1100
TZNAME:AEDT
DTSTART:20251004T160000
END:DAYLIGHT
BEGIN:STANDARD
TZOFFSETFROM:+1100
TZOFFSETTO:+1000
TZNAME:AEST
DTSTART:20260404T160000
END:STANDARD
BEGIN:DAYLIGHT
TZOFFSETFROM:+1000
TZOFFSETTO:+1100
TZNAME:AEDT
DTSTART:20261003T160000
END:DAYLIGHT
END:VTIMEZONE
BEGIN:VEVENT
DTSTART;VALUE=DATE:20250601
DTEND;VALUE=DATE:20250602
DTSTAMP:20260419T204628
CREATED:20250504T231815Z
LAST-MODIFIED:20250504T231815Z
UID:4537-1748736000-1748822399@c3carlingford.org.au
SUMMARY:Pentecost 2025 - Power to Proclaim
DESCRIPTION:Pentecost 2025 – Power to Proclaim – when the Holy Spirit fell on the first Pentecost the gathered disciples were transformed – they received Power to Proclaim. This Pentecost we will receive power from on high to proclaim the marvellous works of God! \nBe in our services on 1 June to worship\, be empowered and experience afresh the power of the Holy Spirit! \n9:30am & 5:30pm Services | 1 June 2025
URL:https://c3carlingford.org.au/event/pentecost-2025-power-to-proclaim/
LOCATION:Carlingford High School\, Australia
ATTACH;FMTTYPE=image/png:https://c3carlingford.org.au/wp-content/uploads/2025/05/Pentecost-Power-To-Proclaim.png
END:VEVENT
BEGIN:VEVENT
DTSTART;TZID=Australia/Sydney:20250601T130000
DTEND;TZID=Australia/Sydney:20250601T150000
DTSTAMP:20260419T204628
CREATED:20250504T224144Z
LAST-MODIFIED:20250505T073643Z
UID:4534-1748782800-1748790000@c3carlingford.org.au
SUMMARY:The Parenting Sessions
DESCRIPTION:Course Starts June 1\nAs a church\, we value equipping parents\, carers and grandparents to make deep\, meaningful connections with their Kids. \nWe will be running three seminars called “The Parenting Sessions.” These sessions are an extension of the Tuning In to Kids course that is aimed at parents and carers healthy ways of modelling how to express our emotions and how to help our kids manage their emotions as well. You don’t need to have attended the Tuning into Kids course for these sessions to be helpful though! \nThe Parenting sessions will be facilitated by Wayne Palmer (Tuning into Kids facilitator and Social Worker) and his wife Kate Appleyard (Kids Ministry Pastor at C3 Carlingford and Social Worker) and a special guest facilitator. \nThe first session will be happening on the 1st of June\, follow this link to resister.
URL:https://c3carlingford.org.au/event/the-parenting-sessions/
LOCATION:Online
ATTACH;FMTTYPE=image/png:https://c3carlingford.org.au/wp-content/uploads/2025/05/TPS.png
END:VEVENT
END:VCALENDAR