BEGIN:VCALENDAR
VERSION:2.0
PRODID:-//C3 Church Carlingford - ECPv6.15.20//NONSGML v1.0//EN
CALSCALE:GREGORIAN
METHOD:PUBLISH
X-ORIGINAL-URL:https://c3carlingford.org.au
X-WR-CALDESC:Events for C3 Church Carlingford
REFRESH-INTERVAL;VALUE=DURATION:PT1H
X-Robots-Tag:noindex
X-PUBLISHED-TTL:PT1H
BEGIN:VTIMEZONE
TZID:Australia/Sydney
BEGIN:STANDARD
TZOFFSETFROM:+1100
TZOFFSETTO:+1000
TZNAME:AEST
DTSTART:20240406T160000
END:STANDARD
BEGIN:DAYLIGHT
TZOFFSETFROM:+1000
TZOFFSETTO:+1100
TZNAME:AEDT
DTSTART:20241005T160000
END:DAYLIGHT
BEGIN:STANDARD
TZOFFSETFROM:+1100
TZOFFSETTO:+1000
TZNAME:AEST
DTSTART:20250405T160000
END:STANDARD
BEGIN:DAYLIGHT
TZOFFSETFROM:+1000
TZOFFSETTO:+1100
TZNAME:AEDT
DTSTART:20251004T160000
END:DAYLIGHT
BEGIN:STANDARD
TZOFFSETFROM:+1100
TZOFFSETTO:+1000
TZNAME:AEST
DTSTART:20260404T160000
END:STANDARD
BEGIN:DAYLIGHT
TZOFFSETFROM:+1000
TZOFFSETTO:+1100
TZNAME:AEDT
DTSTART:20261003T160000
END:DAYLIGHT
END:VTIMEZONE
BEGIN:VEVENT
DTSTART;TZID=Australia/Sydney:20251101T000000
DTEND;TZID=Australia/Sydney:20251201T235900
DTSTAMP:20260421T161256
CREATED:20251124T232716Z
LAST-MODIFIED:20251124T233523Z
UID:4886-1761955200-1764633540@c3carlingford.org.au
SUMMARY:2026 Internship Program
DESCRIPTION:Do you have a heart to serve God and the Church\, while developing your skills in leadership and ministry? Whether you are fresh out of school\, freshly retired or somewhere in between\, the C3 Carlingford and Wentworthville Intern Program is your chance to stretch into what God has for you in 2026. \nClick HERE for information about the intern program and click HERE for the expression of interest form. Don’t forget to get your expressions of interest in by midnight on Monday 1st of December!
URL:https://c3carlingford.org.au/event/2026-internship-program/
ATTACH;FMTTYPE=image/jpeg:https://c3carlingford.org.au/wp-content/uploads/2025/11/2511-Internship-Program-Web.jpeg
END:VEVENT
BEGIN:VEVENT
DTSTART;TZID=Australia/Sydney:20251108T180000
DTEND;TZID=Australia/Sydney:20251108T210000
DTSTAMP:20260421T161256
CREATED:20251005T001702Z
LAST-MODIFIED:20251005T003132Z
UID:4817-1762624800-1762635600@c3carlingford.org.au
SUMMARY:Young Adults Trivia Night
DESCRIPTION:It’s time to get your trivia on! Our Young Adults Trivia Night will be full of food\, fun and prizes. \nAlso\, trivia is more fun with friends! Who will you invite to be on your team? (who knows\, maybe it will help your team get a bonus…) \nTickets $10 per person. Register today
URL:https://c3carlingford.org.au/event/young-adults-trivia-night/
LOCATION:Ministry Centre\, 7 Loftus Road\, Pennant Hills\, NSW\, 2120\, Australia
ATTACH;FMTTYPE=image/jpeg:https://c3carlingford.org.au/wp-content/uploads/2025/10/Young-Adults-Trivia-Night-1200-x-900-px.jpg
ORGANIZER;CN="Andrea Molteno":MAILTO:amolteno@c3carlingford.org.au
END:VEVENT
END:VCALENDAR