BEGIN:VCALENDAR
VERSION:2.0
PRODID:-//C3 Church Carlingford - ECPv6.15.20//NONSGML v1.0//EN
CALSCALE:GREGORIAN
METHOD:PUBLISH
X-WR-CALNAME:C3 Church Carlingford
X-ORIGINAL-URL:https://c3carlingford.org.au
X-WR-CALDESC:Events for C3 Church Carlingford
REFRESH-INTERVAL;VALUE=DURATION:PT1H
X-Robots-Tag:noindex
X-PUBLISHED-TTL:PT1H
BEGIN:VTIMEZONE
TZID:Australia/Sydney
BEGIN:STANDARD
TZOFFSETFROM:+1100
TZOFFSETTO:+1000
TZNAME:AEST
DTSTART:20250405T160000
END:STANDARD
BEGIN:DAYLIGHT
TZOFFSETFROM:+1000
TZOFFSETTO:+1100
TZNAME:AEDT
DTSTART:20251004T160000
END:DAYLIGHT
BEGIN:STANDARD
TZOFFSETFROM:+1100
TZOFFSETTO:+1000
TZNAME:AEST
DTSTART:20260404T160000
END:STANDARD
BEGIN:DAYLIGHT
TZOFFSETFROM:+1000
TZOFFSETTO:+1100
TZNAME:AEDT
DTSTART:20261003T160000
END:DAYLIGHT
BEGIN:STANDARD
TZOFFSETFROM:+1100
TZOFFSETTO:+1000
TZNAME:AEST
DTSTART:20270403T160000
END:STANDARD
BEGIN:DAYLIGHT
TZOFFSETFROM:+1000
TZOFFSETTO:+1100
TZNAME:AEDT
DTSTART:20271002T160000
END:DAYLIGHT
END:VTIMEZONE
BEGIN:VEVENT
DTSTART;TZID=Australia/Sydney:20260502T063000
DTEND;TZID=Australia/Sydney:20260502T210000
DTSTAMP:20260412T212732
CREATED:20260410T070120Z
LAST-MODIFIED:20260411T111452Z
UID:5000-1777703400-1777755600@c3carlingford.org.au
SUMMARY:Pickleball Plus 1
DESCRIPTION:Young Adults are taking to the pickleball court for our next social night! Come along for some rounds of pickleball\, a tasty meal and time to hang out together. Join us at 6:30pm at St Gerard’s Parish Hall (park in the Roselea Way Carpark and walk up) on Saturday 2nd May.\n\nWe’ve also made it easy to invite your crew: grab a single ticket for $15\, and if you bring a plus-one who doesn’t normally attend our church\, it’s $20 for both of you! Register HERE
URL:https://c3carlingford.org.au/event/pickleball-plus-1/
LOCATION:St Gerrards Parish Hall – Enter via Roselea Way
ATTACH;FMTTYPE=image/jpeg:https://c3carlingford.org.au/wp-content/uploads/2026/04/2605-Pickleball-Plus-1-Web-copy.jpg
END:VEVENT
END:VCALENDAR