BEGIN:VCALENDAR
VERSION:2.0
PRODID:-//C3 Church Carlingford - ECPv6.15.20//NONSGML v1.0//EN
CALSCALE:GREGORIAN
METHOD:PUBLISH
X-WR-CALNAME:C3 Church Carlingford
X-ORIGINAL-URL:https://c3carlingford.org.au
X-WR-CALDESC:Events for C3 Church Carlingford
REFRESH-INTERVAL;VALUE=DURATION:PT1H
X-Robots-Tag:noindex
X-PUBLISHED-TTL:PT1H
BEGIN:VTIMEZONE
TZID:Australia/Sydney
BEGIN:STANDARD
TZOFFSETFROM:+1100
TZOFFSETTO:+1000
TZNAME:AEST
DTSTART:20230401T160000
END:STANDARD
BEGIN:DAYLIGHT
TZOFFSETFROM:+1000
TZOFFSETTO:+1100
TZNAME:AEDT
DTSTART:20230930T160000
END:DAYLIGHT
BEGIN:STANDARD
TZOFFSETFROM:+1100
TZOFFSETTO:+1000
TZNAME:AEST
DTSTART:20240406T160000
END:STANDARD
BEGIN:DAYLIGHT
TZOFFSETFROM:+1000
TZOFFSETTO:+1100
TZNAME:AEDT
DTSTART:20241005T160000
END:DAYLIGHT
BEGIN:STANDARD
TZOFFSETFROM:+1100
TZOFFSETTO:+1000
TZNAME:AEST
DTSTART:20250405T160000
END:STANDARD
BEGIN:DAYLIGHT
TZOFFSETFROM:+1000
TZOFFSETTO:+1100
TZNAME:AEDT
DTSTART:20251004T160000
END:DAYLIGHT
BEGIN:STANDARD
TZOFFSETFROM:+1100
TZOFFSETTO:+1000
TZNAME:AEST
DTSTART:20260404T160000
END:STANDARD
BEGIN:DAYLIGHT
TZOFFSETFROM:+1000
TZOFFSETTO:+1100
TZNAME:AEDT
DTSTART:20261003T160000
END:DAYLIGHT
END:VTIMEZONE
BEGIN:VEVENT
DTSTART;VALUE=DATE:20250420
DTEND;VALUE=DATE:20250421
DTSTAMP:20260422T065350
CREATED:20250324T023805Z
LAST-MODIFIED:20250324T064200Z
UID:4385-1745107200-1745193599@c3carlingford.org.au
SUMMARY:Easter Sunday | Darkness Meets Light
DESCRIPTION:What happens when Darkness meets Light. There is no contest – Light Triumphs over Darkness.  The darkness of sin\, the darkness of the Cross is overcome by the Light of the Resurrection.  A New Day dawns – the Light has come! \nCelebrate Easter with us this year – when Darkness Meets Light!
URL:https://c3carlingford.org.au/event/easter-sunday-darkness-meets-light/
LOCATION:Carlingford High School\, Australia
ATTACH;FMTTYPE=image/jpeg:https://c3carlingford.org.au/wp-content/uploads/2025/03/Easter-Tomb-SUNDAY-WEB.jpg
END:VEVENT
BEGIN:VEVENT
DTSTART;TZID=Australia/Sydney:20250418T093000
DTEND;TZID=Australia/Sydney:20250418T110000
DTSTAMP:20260422T065350
CREATED:20250324T023723Z
LAST-MODIFIED:20250324T064138Z
UID:4381-1744968600-1744974000@c3carlingford.org.au
SUMMARY:Good Friday | Darkness Meets Light
DESCRIPTION:What happens when Darkness meets Light. There is no contest – Light Triumphs over Darkness.  The darkness of sin\, the darkness of the Cross is overcome by the Light of the Resurrection.  A New Day dawns – the Light has come! \nCelebrate Easter with us this year – when Darkness Meets Light!
URL:https://c3carlingford.org.au/event/good-friday-darkness-meets-light/
LOCATION:Carlingford High School\, Australia
ATTACH;FMTTYPE=image/jpeg:https://c3carlingford.org.au/wp-content/uploads/2025/03/Easter-Tomb-GF-WEB.jpg
END:VEVENT
BEGIN:VEVENT
DTSTART;TZID=Australia/Sydney:20250410T190000
DTEND;TZID=Australia/Sydney:20250410T203000
DTSTAMP:20260422T065350
CREATED:20250218T041148Z
LAST-MODIFIED:20250218T042448Z
UID:4268-1744311600-1744317000@c3carlingford.org.au
SUMMARY:Keeping Your Cool - Free Community Seminar
DESCRIPTION:If you’ve ever ever lost your temper at home\, then said regrettable things to the people you love\, then this free community seminar is just for you. \nMatt Boulton\, creator of the Circuit Breaker course\, will provide you with practical simple tools to resolve conflict\, improve communication and nurture relationships. \nThis is a free community seminar\, and will be held at the Ministry Centre from 7:00pm on Thursday the 10th of April. \nRegister via this link.
URL:https://c3carlingford.org.au/event/keeping-your-cool-free-community-seminar-2/
LOCATION:Ministry Centre\, 7 Loftus Road\, Pennant Hills\, NSW\, 2120\, Australia
ATTACH;FMTTYPE=image/jpeg:https://c3carlingford.org.au/wp-content/uploads/2024/05/Keeping.jpg
ORGANIZER;CN="Zoe Stewart":MAILTO:zstewart@c3carlingford.org.au
END:VEVENT
BEGIN:VEVENT
DTSTART;TZID=Australia/Sydney:20250405T100000
DTEND;TZID=Australia/Sydney:20250405T113000
DTSTAMP:20260422T065350
CREATED:20250311T220443Z
LAST-MODIFIED:20250323T214230Z
UID:4330-1743847200-1743852600@c3carlingford.org.au
SUMMARY:Tea at 10
DESCRIPTION:Tea @ 10 is coming up for all the women aged 15+ at church! \nIt’s always a lovely morning to get together over tea & coffee and a delicious morning tea. This year we’ll be gathering at Betty-Joy Petschack’s home in Epping\, so register today and come along for a beautiful time of conversation & connection! \nThis event has a cost of $5. \nRegister Here
URL:https://c3carlingford.org.au/event/tea-at-10/
ATTACH;FMTTYPE=image/jpeg:https://c3carlingford.org.au/wp-content/uploads/2025/03/EHI1031162-130e24b05a884a419fe0ef0d11225c34-1.jpeg
END:VEVENT
BEGIN:VEVENT
DTSTART;TZID=Australia/Sydney:20250402T200000
DTEND;TZID=Australia/Sydney:20250402T210000
DTSTAMP:20260422T065350
CREATED:20241229T214123Z
LAST-MODIFIED:20250324T023955Z
UID:4064-1743624000-1743627600@c3carlingford.org.au
SUMMARY:Prayer Gathering // April
DESCRIPTION:Praying is one of the most engaging experiences of our faith.  We meet to pray on the 1st Wednesday of each month. \nIn our monthly prayer gatherings\, we pray for the needs of the church and the world and our April prayer gathering is on Wednesday 2nd at 8pm at the Ministry Centre (7 Loftus Road Pennant Hills) or via ZOOM. \nThe ZOOM link is available in our weekly church email.
URL:https://c3carlingford.org.au/event/prayer-gathering-april/
LOCATION:Ministry Centre and Online\, Australia
ATTACH;FMTTYPE=image/jpeg:https://c3carlingford.org.au/wp-content/uploads/2024/12/25-Prayer-Web.jpg
END:VEVENT
BEGIN:VEVENT
DTSTART;VALUE=DATE:20250321
DTEND;VALUE=DATE:20250331
DTSTAMP:20260422T065350
CREATED:20250224T014745Z
LAST-MODIFIED:20250224T014745Z
UID:4283-1742515200-1743379199@c3carlingford.org.au
SUMMARY:Worship Service Relocation
DESCRIPTION:The school are holding their musical in the school hall over the weekends of 12-23 & 28-30 March.  We will be relocating our services to accommodate the musical! Check out the details below so you know where to find us during this time. \nYouth | 21 March – Ministry Centre – 7 Loftus rd Pennant Hills\nAM Service | 23 March – Carlingford High COLA (outside the hall)\nPM Service | 23 March – Ministry Centre – 7 Loftus rd Pennant Hills\nYouth | 28 March – Ministry Centre – 7 Loftus rd Pennant Hills\nAM Service | 30 March – Carlingford High COLA (outside the hall)\nPM Service | 30 March – Ministry Centre – 7 Loftus rd Pennant Hills
URL:https://c3carlingford.org.au/event/worship-service-relocation/
ATTACH;FMTTYPE=image/jpeg:https://c3carlingford.org.au/wp-content/uploads/2025/02/2503-Worship-Service-Relocation-Web.jpg
END:VEVENT
BEGIN:VEVENT
DTSTART;TZID=Australia/Sydney:20250316T120000
DTEND;TZID=Australia/Sydney:20250316T140000
DTSTAMP:20260422T065350
CREATED:20250218T012724Z
LAST-MODIFIED:20250218T012724Z
UID:4255-1742126400-1742133600@c3carlingford.org.au
SUMMARY:Nowruz Persian New Year Celebration
DESCRIPTION:Come and celebrate Nowruz\, Persian New Year together! There will be great food\, music and dancing. Everyone is welcome to this fun family event. To let us know you are coming click here to register. \nThen simply plan what dish you want to bring to share and start practicing your moves.
URL:https://c3carlingford.org.au/event/nowruz-persian-new-year-celebration/
LOCATION:Carlingford High School\, Australia
ATTACH;FMTTYPE=image/jpeg:https://c3carlingford.org.au/wp-content/uploads/2025/02/unnamed-8.jpg
ORGANIZER;CN="Zoe Stewart":MAILTO:zstewart@c3carlingford.org.au
END:VEVENT
BEGIN:VEVENT
DTSTART;TZID=Australia/Sydney:20250314T180000
DTEND;TZID=Australia/Sydney:20250316T130000
DTSTAMP:20260422T065350
CREATED:20241229T212943Z
LAST-MODIFIED:20250303T043458Z
UID:3987-1741975200-1742130000@c3carlingford.org.au
SUMMARY:Fuse Camp 2025
DESCRIPTION:Regos are open for our annual Fuse Camp on the 14th-16th of March.  \nThis will be a weekend away filled with friendship\, fun and encounters with God.  \nFor Fuse 2025 we are focusing on the Fruit of the Spirit found in Galatians and it is our hope that young people would come away from the weekend having had a powerful encounter with the Holy Spirit and would feel Empowered to act with Him in their everyday lives.  \nOn top of this we will be having a ton of fun worshipping God together\, playing a big messy game called the Gauntlet and getting closer with one another. \nSign up here today!
URL:https://c3carlingford.org.au/event/fuse-camp-2025/
ATTACH;FMTTYPE=image/jpeg:https://c3carlingford.org.au/wp-content/uploads/2024/12/2501-Fuse-Save-the-Date-WEB.jpg
ORGANIZER;CN="Tim Cornell":MAILTO:tcornell@c3carlingford.org.au
END:VEVENT
BEGIN:VEVENT
DTSTART;TZID=Australia/Sydney:20250309T123000
DTEND;TZID=Australia/Sydney:20250309T143000
DTSTAMP:20260422T065350
CREATED:20250210T044215Z
LAST-MODIFIED:20250224T014039Z
UID:4215-1741523400-1741530600@c3carlingford.org.au
SUMMARY:Welcome Lunch
DESCRIPTION:Our Welcome Lunches are designed for people who are new to church! \nCome and meet some of our pastors and key leaders over a relaxed lunch on Sunday 9th March at our Ministry Centre at 7 Loftus Road\, Pennant Hills. You will have the opportunity to ask questions and find out all about our church. \nLunch will start promptly at 12:30pm and is free but we do need RSVPs for catering purposes by Tuesday 4th March. \nIf you need childcare or have specific dietary requirements\, please let us know! Book your free spot HERE.
URL:https://c3carlingford.org.au/event/welcome-lunch-3/
ATTACH;FMTTYPE=image/jpeg:https://c3carlingford.org.au/wp-content/uploads/2024/06/24-WL_web_details.jpg
ORGANIZER;CN="Jen Irving":MAILTO:JIrving@c3carlingford.org.au
END:VEVENT
BEGIN:VEVENT
DTSTART;TZID=Australia/Sydney:20250305T200000
DTEND;TZID=Australia/Sydney:20250305T210000
DTSTAMP:20260422T065350
CREATED:20241229T214022Z
LAST-MODIFIED:20241229T214022Z
UID:4063-1741204800-1741208400@c3carlingford.org.au
SUMMARY:Prayer Gathering // March
DESCRIPTION:Praying is one of the most engaging experiences of our faith.  We meet to pray on the 1st Wednesday of each month. \nIn our monthly prayer gatherings\, we pray for the needs of the church and the world and our March prayer gathering is on Wednesday 5th at 8pm at the Ministry Centre (7 Loftus Road Pennant Hills) or via ZOOM. \nThe ZOOM link is available in our weekly church email.
URL:https://c3carlingford.org.au/event/prayer-gathering-march/
LOCATION:Ministry Centre and Online\, Australia
ATTACH;FMTTYPE=image/jpeg:https://c3carlingford.org.au/wp-content/uploads/2024/12/03-March-Prayer.jpg
END:VEVENT
BEGIN:VEVENT
DTSTART;VALUE=DATE:20250302
DTEND;VALUE=DATE:20250303
DTSTAMP:20260422T065350
CREATED:20250210T044947Z
LAST-MODIFIED:20250210T045212Z
UID:4224-1740873600-1740959999@c3carlingford.org.au
SUMMARY:Vision Builders Sunday
DESCRIPTION:Financial giving is an act of worship and faith\, as well as showing your commitment and obedience to God. We will receive our Vision Builders Offering on Sunday the 2nd of March across all our services\, and we encourage you to pray about how you will contribute to the offering this year. You can give in person on Sunday the 2nd or via this online giving link. \nFor more information about how you can give\, please contact the church office on 9875 0300 or contact Ps Justin (jware@c3carlingford.org.au).
URL:https://c3carlingford.org.au/event/vision-builders-sunday/
LOCATION:Carlingford High School\, Australia
ATTACH;FMTTYPE=image/jpeg:https://c3carlingford.org.au/wp-content/uploads/2025/02/20250203_C3CW_Vision-Slides_4x3_VBS-Date_Purple_02-scaled.jpg
ORGANIZER;CN="Justin Ware":MAILTO:jware@c3carlingford.org.au
END:VEVENT
BEGIN:VEVENT
DTSTART;TZID=Australia/Sydney:20250228T130000
DTEND;TZID=Australia/Sydney:20250228T140000
DTSTAMP:20260422T065350
CREATED:20250218T015225Z
LAST-MODIFIED:20250218T040556Z
UID:4264-1740747600-1740751200@c3carlingford.org.au
SUMMARY:C3 Church Global | Global Day of Prayer
DESCRIPTION:As part of the C3 Global movement of churches\, we are joining c3 Churches from around the world to pray as one on the 28th of February at 1PM. \n“Our united voice of prayer is so important. ‘Day of Prayer’ is who we are as a church family. The main outcome is that we see souls (saved)\, we see our churches grow and filled with the presence of God. Life gets busy\, but when we come together to pray\, what is most important rises to the surface. We make the main thing\, the main thing – Jesus”\nPs Chris Pringle \nThe zoom link for this event will be available in the church email closer to the date.
URL:https://c3carlingford.org.au/event/c3-church-global-global-day-of-prayer/
LOCATION:Online
ATTACH;FMTTYPE=image/png:https://c3carlingford.org.au/wp-content/uploads/2025/02/Vision-Month-PRAYER-Recovered.png
END:VEVENT
BEGIN:VEVENT
DTSTART;VALUE=DATE:20250225
DTEND;VALUE=DATE:20250409
DTSTAMP:20260422T065350
CREATED:20241229T215124Z
LAST-MODIFIED:20250114T000659Z
UID:4077-1740441600-1744156799@c3carlingford.org.au
SUMMARY:ALPHA Course
DESCRIPTION:We are excited to be running the Alpha Course in February and March. This is a great opportunity for us to explore life\, faith and meaning together. If you have never done an Alpha Course\, then this is a chance to go deeper to start the new year – and if you have why not invite a friend to do Alpha with you? This could be life changing! \nThe course will commence on the 25th of February and run each week for 7 weeks\, at 7:30pm – 9pm. We will meet in person at the C3 Church Carlingford Ministry Centre – 7 Loftus Road Pennant Hills\, and also online via Zoom. \nLet us know you are interested by registering here.
URL:https://c3carlingford.org.au/event/alpha-course-2/
LOCATION:Ministry Centre and Online\, Australia
ATTACH;FMTTYPE=image/png:https://c3carlingford.org.au/wp-content/uploads/2024/12/Alpha3.png
END:VEVENT
BEGIN:VEVENT
DTSTART;TZID=Australia/Sydney:20250219T200000
DTEND;TZID=Australia/Sydney:20250219T210000
DTSTAMP:20260422T065350
CREATED:20250218T012933Z
LAST-MODIFIED:20250218T013130Z
UID:4259-1739995200-1739998800@c3carlingford.org.au
SUMMARY:Vision Month ALL IN Prayer Gathering
DESCRIPTION:We are gathering ALL IN Onsite and Online to pray for our church for three Wednesdays in February. These are always an inspiring time of prayer as we focus on the various ministries of the church and what God is going to do in and through them over the year. \nThis Wednesday we will be gathering at Toongabbie East Public School \nThe online zoom link is available in the church email.
URL:https://c3carlingford.org.au/event/vision-month-all-in-prayer-gatherin/
LOCATION:Toongabbie East Public School\, 2 Harris Rd\, Wentworthville\, NSW\, 2145\, Australia
ATTACH;FMTTYPE=image/png:https://c3carlingford.org.au/wp-content/uploads/2025/02/unnamed-8.png
END:VEVENT
BEGIN:VEVENT
DTSTART;TZID=Australia/Sydney:20250214T190000
DTEND;TZID=Australia/Sydney:20250214T210000
DTSTAMP:20260422T065350
CREATED:20250210T044452Z
LAST-MODIFIED:20250210T044617Z
UID:4218-1739559600-1739566800@c3carlingford.org.au
SUMMARY:C4Real Youth Returns
DESCRIPTION:Youth is back! Join us this Friday 14th February at Carlingford High School Hall\, 7-9pm.  We can’t wait to be back together for Term 1 and see all that God will do. \nPlease follow this link to find out more about C4Real Youth or contact Ps Tim if you would like more information.
URL:https://c3carlingford.org.au/event/c4real-youth-returns/
LOCATION:Carlingford High School\, Australia
ATTACH;FMTTYPE=image/jpeg:https://c3carlingford.org.au/wp-content/uploads/2025/02/82973cf7-22d0-49f9-7e86-458846c1c38c.jpg
ORGANIZER;CN="Tim Cornell":MAILTO:tcornell@c3carlingford.org.au
END:VEVENT
BEGIN:VEVENT
DTSTART;TZID=Australia/Sydney:20250212T200000
DTEND;TZID=Australia/Sydney:20250212T210000
DTSTAMP:20260422T065350
CREATED:20250210T045202Z
LAST-MODIFIED:20250210T045202Z
UID:4229-1739390400-1739394000@c3carlingford.org.au
SUMMARY:Vision Month ALL IN Prayer Gathering
DESCRIPTION:We are gathering ALL IN Onsite and Online to pray for our church for three Wednesdays in February. These are always an inspiring time of prayer as we focus on the various ministries of the church and what God is going to do in and through them over the year. \nThis Wednesday we will be gathering at the Church Ministry Centre\, 7 Loftus Road\, Pennant Hills // 8PM  \nThe online zoom link is available in the church email.
URL:https://c3carlingford.org.au/event/vision-month-all-in-prayer-gathering/
LOCATION:Ministry Centre and Online\, Australia
ATTACH;FMTTYPE=image/png:https://c3carlingford.org.au/wp-content/uploads/2025/02/unnamed-7l.png
END:VEVENT
BEGIN:VEVENT
DTSTART;VALUE=DATE:20250212
DTEND;VALUE=DATE:20250227
DTSTAMP:20260422T065350
CREATED:20241229T214640Z
LAST-MODIFIED:20250311T215953Z
UID:4072-1739318400-1740614399@c3carlingford.org.au
SUMMARY:VISION MONTH PRAYER GATHERINGS
DESCRIPTION:Wednesday Evenings // 12\, 19 & 26 February 8-9pm Onsite OR On Zoom\nOn the 12th\, 19th and 26th of February we will gather together Onsite and Online to pray for our church every Wednesday evening at 8pm.  These are always an inspiring time of prayer as we focus on the various ministries of the church and what God is going to do in and through them over the year.  We will pray Onsite at the Ministry Centre or Toongabbie East Public School each week so keep your eyes on the weekly email for the venue each week.
URL:https://c3carlingford.org.au/event/vision-month-prayer-gatherings-2/
LOCATION:Ministry Centre and Online\, Australia
ATTACH;FMTTYPE=image/png:https://c3carlingford.org.au/wp-content/uploads/2024/01/2402-Vision-Month-Prayer-Gathering-Web.png
END:VEVENT
BEGIN:VEVENT
DTSTART;VALUE=DATE:20250210
DTEND;VALUE=DATE:20250213
DTSTAMP:20260422T065350
CREATED:20241229T214820Z
LAST-MODIFIED:20241229T214826Z
UID:4074-1739145600-1739404799@c3carlingford.org.au
SUMMARY:VISION MONTH FAST
DESCRIPTION:Date: 10-12th February \nJesus says\, “When you fast…” in Matthew 6:16 and in so doing calls us to a spiritual practice that purifies\, focuses and intensifies our prayer life.  As we commence our church year we’re calling the church to fast on 5\, 6 & 7 February.\n\nWe will gather at 6.30am each morning for an hour of prayer at the Ministry Centre & on Zoom to pray for our Nation\, Revival\, an outpouring of the Holy Spirit\, effective evangelism and for our church.  (If you would like more details on Fasting please click HERE for a short booklet.)
URL:https://c3carlingford.org.au/event/vision-month-fast-copy/
LOCATION:Ministry Centre and Online\, Australia
ATTACH;FMTTYPE=image/jpeg:https://c3carlingford.org.au/wp-content/uploads/2024/01/2402-Vision-Month-Fast-Web.jpg
END:VEVENT
BEGIN:VEVENT
DTSTART;VALUE=DATE:20250208
DTEND;VALUE=DATE:20250210
DTSTAMP:20260422T065350
CREATED:20241229T215650Z
LAST-MODIFIED:20241229T215650Z
UID:4082-1738972800-1739145599@c3carlingford.org.au
SUMMARY:VISION WEEKEND
DESCRIPTION:8th + 9th February 2025\n\nEach year in February we launch the Vision for the year ahead on Vision Weekend. This is a powerful time where we get to hear our church’s direction for the year. \nVision Saturday 8th Feb: 9:00am – 12.30pm – All-In Volunteer’s Gathering For everyone involved in Ministry across the church @ Carlingford High School\nVision Sunday 9th Feb: 9.30am – All-In Church Service (C3 Carlingford AM\, PM & C4 Real + C3 Wentworthville) @ Carlingford High School
URL:https://c3carlingford.org.au/event/vision-weekend/
LOCATION:Carlingford High School\, Australia
ATTACH;FMTTYPE=image/png:https://c3carlingford.org.au/wp-content/uploads/2024/12/VISION-WEEKEND-SAVE-THE-DATE.png
END:VEVENT
BEGIN:VEVENT
DTSTART;TZID=Australia/Sydney:20250205T200000
DTEND;TZID=Australia/Sydney:20250205T210000
DTSTAMP:20260422T065350
CREATED:20241229T213738Z
LAST-MODIFIED:20241229T213915Z
UID:4058-1738785600-1738789200@c3carlingford.org.au
SUMMARY:Prayer Gathering // February
DESCRIPTION:Praying is one of the most engaging experiences of our faith.  We meet to pray on the 1st Wednesday of each month. \nIn our monthly prayer gatherings\, we pray for the needs of the church and the world and our February prayer gathering is on Wednesday 5th at 8pm at the Ministry Centre (7 Loftus Road Pennant Hills) or via ZOOM. \nThe ZOOM link is available in our weekly church email.
URL:https://c3carlingford.org.au/event/prayer-gathering-2/
LOCATION:Ministry Centre and Online\, Australia
ATTACH;FMTTYPE=image/jpeg:https://c3carlingford.org.au/wp-content/uploads/2024/12/02-Februray-Prayer.jpg
END:VEVENT
BEGIN:VEVENT
DTSTART;TZID=Australia/Sydney:20250201T170000
DTEND;TZID=Australia/Sydney:20250201T210000
DTSTAMP:20260422T065350
CREATED:20241229T213045Z
LAST-MODIFIED:20241229T213045Z
UID:3984-1738429200-1738443600@c3carlingford.org.au
SUMMARY:Lunar New Year 2025
DESCRIPTION:Come and join us for an evening of feasting and fun! A great way to celebrate the New Year and get to know people. \nPlease click here to register for this free event. Then prepare a dish to bring along and share.
URL:https://c3carlingford.org.au/event/lunar-new-year-2025/
LOCATION:Ministry Centre\, 7 Loftus Road\, Pennant Hills\, NSW\, 2120\, Australia
ATTACH;FMTTYPE=image/jpeg:https://c3carlingford.org.au/wp-content/uploads/2024/12/2502-Lunar-New-Year-Web.jpg
ORGANIZER;CN="Zoe Stewart":MAILTO:zstewart@c3carlingford.org.au
END:VEVENT
BEGIN:VEVENT
DTSTART;TZID=Australia/Sydney:20250115T200000
DTEND;TZID=Australia/Sydney:20250115T210000
DTSTAMP:20260422T065350
CREATED:20241229T213228Z
LAST-MODIFIED:20241229T213819Z
UID:4053-1736971200-1736974800@c3carlingford.org.au
SUMMARY:Prayer Gathering // January
DESCRIPTION:Each month we gather on the first Wednesday evening as a church to pray together. In January the 1st Wednesday of the month is also the 1st day of the year – and while we would love you to be praying for our church and for our community\, we will not be holding our regular prayer meeting on New Years Day. \nInstead\, we will be gathering onsite and online to pray on the 15th of January at 8:00pm for the 1st time in 2025. Put this date in your calendar now\, more details will be in the regular church email over the next two weeks.
URL:https://c3carlingford.org.au/event/prayer-gathering/
LOCATION:Ministry Centre and Online\, Australia
ATTACH;FMTTYPE=image/jpeg:https://c3carlingford.org.au/wp-content/uploads/2024/12/01-January-Prayer.jpg
END:VEVENT
BEGIN:VEVENT
DTSTART;TZID=Australia/Sydney:20241225T093000
DTEND;TZID=Australia/Sydney:20241225T103000
DTSTAMP:20260422T065350
CREATED:20241202T014442Z
LAST-MODIFIED:20241202T045613Z
UID:3931-1735119000-1735122600@c3carlingford.org.au
SUMMARY:Christmas Day Service
DESCRIPTION:There is so much to wonder at Christmas. The story of the birth of our savior is remarkable and leaves us full of awe. \nYou are invited to join with us for a special services on Christmas Day as we wonder at the majesty of Jesus.
URL:https://c3carlingford.org.au/event/christmas-day-service/
LOCATION:Carlingford High School\, Australia
ATTACH;FMTTYPE=image/png:https://c3carlingford.org.au/wp-content/uploads/2024/12/WONDER.png
END:VEVENT
BEGIN:VEVENT
DTSTART;TZID=Australia/Sydney:20241224T230000
DTEND;TZID=Australia/Sydney:20241224T230000
DTSTAMP:20260422T065350
CREATED:20241202T014353Z
LAST-MODIFIED:20241202T044150Z
UID:3927-1735081200-1735081200@c3carlingford.org.au
SUMMARY:Christmas Eve Service
DESCRIPTION:There is so much to wonder at Christmas. The story of the birth of our savior is remarkable and leaves us full of awe. \nJoin with us for a special service on Christmas Eve as we come together at 11:00pm to prepare for Christmas day together.
URL:https://c3carlingford.org.au/event/christmas-eve-service/
LOCATION:Carlingford High School\, Australia
ATTACH;FMTTYPE=image/png:https://c3carlingford.org.au/wp-content/uploads/2024/12/WONDER.png
END:VEVENT
BEGIN:VEVENT
DTSTART;TZID=Australia/Sydney:20241215T173000
DTEND;TZID=Australia/Sydney:20241215T200000
DTSTAMP:20260422T065350
CREATED:20241202T014224Z
LAST-MODIFIED:20241202T044106Z
UID:3923-1734283800-1734292800@c3carlingford.org.au
SUMMARY:Carols in the Hall
DESCRIPTION:Christmas is upon us\, which is a great opportunity to spend time with friends & family and sing Christmas carols together. Our Carols in the Hall service on Sunday 15 December will be a cozy evening of caroling. Bring along your picnic rugs or chairs and a friend or two to enjoy the night. See you there! 🎶
URL:https://c3carlingford.org.au/event/carols-in-the-hall/
LOCATION:Carlingford High School\, Australia
ATTACH;FMTTYPE=image/png:https://c3carlingford.org.au/wp-content/uploads/2024/12/Carols-In-The-HALL.png
END:VEVENT
BEGIN:VEVENT
DTSTART;TZID=Australia/Sydney:20241214T140000
DTEND;TZID=Australia/Sydney:20241214T170000
DTSTAMP:20260422T065350
CREATED:20241125T041017Z
LAST-MODIFIED:20241125T053057Z
UID:3917-1734184800-1734195600@c3carlingford.org.au
SUMMARY:YAPP | Young Adults Pool Party
DESCRIPTION:It’s hot! It’s Summer\, it’s nearly Christmas. \nWhat time is it? It’s YAPP time – Young Adults Pool Party\, our final 2024 Young Adults Social event. The perfect way to celebrate in the lead up to Christmas. We would love to have you join us for a fun afternoon over at Pastor Tim’s house. \nBring your swimmers & a snack and invite your Young Adult friends and come hang out with us one more time in 2024. \nEmail Pastor Andie for more details.
URL:https://c3carlingford.org.au/event/yapp-young-adults-pool-party/
ATTACH;FMTTYPE=image/png:https://c3carlingford.org.au/wp-content/uploads/2024/11/YAPP-EXAMPLE.png
ORGANIZER;CN="Andrea Molteno":MAILTO:amolteno@c3carlingford.org.au
END:VEVENT
BEGIN:VEVENT
DTSTART;TZID=Australia/Sydney:20241213T191500
DTEND;TZID=Australia/Sydney:20241213T210000
DTSTAMP:20260422T065350
CREATED:20241111T021417Z
LAST-MODIFIED:20241111T021417Z
UID:3868-1734117300-1734123600@c3carlingford.org.au
SUMMARY:North Epping Christmas Carols
DESCRIPTION:This year we will be joining other Churches in our area for the North Epping Carols on Friday the 13th of December. \nCarol singing begins at 7:15pm with fireworks at 9:00pm. There will be food\, drinks and glowsticks available for sale. \nFor more information please visit northeppingcarols.com.
URL:https://c3carlingford.org.au/event/north-epping-christmas-carols/
LOCATION:Epping Oval\, 68 Norfolk Road\, Epping\, NSW\, 2121\, Australia
ATTACH;FMTTYPE=image/jpeg:https://c3carlingford.org.au/wp-content/uploads/2024/11/Carols-2024_General.jpg
END:VEVENT
BEGIN:VEVENT
DTSTART;TZID=Australia/Sydney:20241207T100000
DTEND;TZID=Australia/Sydney:20241207T113000
DTSTAMP:20260422T065350
CREATED:20241111T020508Z
LAST-MODIFIED:20241125T040649Z
UID:3864-1733565600-1733571000@c3carlingford.org.au
SUMMARY:Christmas Tea@10 | Women's Event
DESCRIPTION:Join us for our final women’s’ event of 2024 – Christmas Tea@10! \nThis is an ALL-IN event for Women aged 15 and over from every part of our church. \nIt will be held on Saturday 7th Dec at Laura Samperi’s house (address given upon registration). \nPlease bring a plate of Christmas themed morning tea to share! Invite a friend to join us as we celebrate! \nRegister here. \nLooking forward to seeing you there!
URL:https://c3carlingford.org.au/event/christmas-tea10-womens-event/
ATTACH;FMTTYPE=image/jpeg:https://c3carlingford.org.au/wp-content/uploads/2024/11/tez10.jpg
ORGANIZER;CN="Laura Samperi":MAILTO:info@c3carlingford.org.au
END:VEVENT
BEGIN:VEVENT
DTSTART;TZID=Australia/Sydney:20241126T181500
DTEND;TZID=Australia/Sydney:20241126T210000
DTSTAMP:20260422T065350
CREATED:20241028T043201Z
LAST-MODIFIED:20241118T222426Z
UID:3826-1732644900-1732654800@c3carlingford.org.au
SUMMARY:ALL IN | Thank You Gathering
DESCRIPTION:We are hosting a special ALL IN (Thank You Gathering)\, to celebrate the year and say thank you to everyone who serves in church! \nIt will be on Tuesday 26th November 6.15-9:00pm at Northmead Bowling Club (NBS Sports Club). Finger food and barefoot bowling will be provided and drinks or full meals can be purchased at the bar. \nCome ready for some serious fun\, games and hijinks!!
URL:https://c3carlingford.org.au/event/all-in-thank-you-gathering/
LOCATION:Northmead Bowling Club\, 166 Windsor Rd\, Northmead\, NSW\, 2152\, Australia
ATTACH;FMTTYPE=image/png:https://c3carlingford.org.au/wp-content/uploads/2024/10/ALL-IN-PARTY.png
END:VEVENT
BEGIN:VEVENT
DTSTART;TZID=Australia/Sydney:20241117T093000
DTEND;TZID=Australia/Sydney:20241117T133000
DTSTAMP:20260422T065350
CREATED:20241028T041031Z
LAST-MODIFIED:20241028T041149Z
UID:3809-1731835800-1731850200@c3carlingford.org.au
SUMMARY:ALL IN - THANKSGIVING SUNDAY SERVICE AND PICNIC
DESCRIPTION:We’re looking forward to our ALL-IN Thanksgiving Service on the 17th November at 9:30am (there will be no PM service that day). During this service we will present our Thanksgiving offering to our worthy recipients. \nAfter our ALL-IN Thanksgiving Service\, we’ll be having a church picnic. What better way to express our thankfulness than celebrating together with food and fun! Pack your best BYO picnic lunch\, and come ready to hang out with friends and join in the fun and games we have planned! \nFor more information click here.
URL:https://c3carlingford.org.au/event/all-in-thanksgiving-sunday-service-and-picnic/
LOCATION:Carlingford High School\, Australia
ATTACH;FMTTYPE=image/jpeg:https://c3carlingford.org.au/wp-content/uploads/2024/10/ALL-IN.jpg
END:VEVENT
END:VCALENDAR