BEGIN:VCALENDAR
VERSION:2.0
PRODID:-//C3 Church Carlingford - ECPv6.15.20//NONSGML v1.0//EN
CALSCALE:GREGORIAN
METHOD:PUBLISH
X-WR-CALNAME:C3 Church Carlingford
X-ORIGINAL-URL:https://c3carlingford.org.au
X-WR-CALDESC:Events for C3 Church Carlingford
REFRESH-INTERVAL;VALUE=DURATION:PT1H
X-Robots-Tag:noindex
X-PUBLISHED-TTL:PT1H
BEGIN:VTIMEZONE
TZID:Australia/Sydney
BEGIN:STANDARD
TZOFFSETFROM:+1100
TZOFFSETTO:+1000
TZNAME:AEST
DTSTART:20250405T160000
END:STANDARD
BEGIN:DAYLIGHT
TZOFFSETFROM:+1000
TZOFFSETTO:+1100
TZNAME:AEDT
DTSTART:20251004T160000
END:DAYLIGHT
BEGIN:STANDARD
TZOFFSETFROM:+1100
TZOFFSETTO:+1000
TZNAME:AEST
DTSTART:20260404T160000
END:STANDARD
BEGIN:DAYLIGHT
TZOFFSETFROM:+1000
TZOFFSETTO:+1100
TZNAME:AEDT
DTSTART:20261003T160000
END:DAYLIGHT
BEGIN:STANDARD
TZOFFSETFROM:+1100
TZOFFSETTO:+1000
TZNAME:AEST
DTSTART:20270403T160000
END:STANDARD
BEGIN:DAYLIGHT
TZOFFSETFROM:+1000
TZOFFSETTO:+1100
TZNAME:AEDT
DTSTART:20271002T160000
END:DAYLIGHT
END:VTIMEZONE
BEGIN:VEVENT
DTSTART;TZID=Australia/Sydney:20260328T100000
DTEND;TZID=Australia/Sydney:20260328T113000
DTSTAMP:20260422T041342
CREATED:20260315T214215Z
LAST-MODIFIED:20260315T214215Z
UID:4976-1774692000-1774697400@c3carlingford.org.au
SUMMARY:Tea @ 10 - March 2026
DESCRIPTION:Tea @ 10 is always a beautiful opportunity for all the women of our church to come together\, connect and share a cuppa. \nOn Saturday\, 28 March\, we’ll gather at Betty-Joy Petschack’s home for a relaxed morning with your favourite hot beverages and something delectable to eat for morning tea. And if there’s a lady you’d like to catch up with – bring her along too! \nClick HERE to register by Monday 23rd March.
URL:https://c3carlingford.org.au/event/tea-10-march-2026/
ATTACH;FMTTYPE=image/jpeg:https://c3carlingford.org.au/wp-content/uploads/2026/03/Tea-@-10.jpeg
ORGANIZER;CN="Laura Samperi":MAILTO:info@c3carlingford.org.au
END:VEVENT
BEGIN:VEVENT
DTSTART;VALUE=DATE:20260403
DTEND;VALUE=DATE:20260406
DTSTAMP:20260422T041342
CREATED:20260315T214943Z
LAST-MODIFIED:20260315T215557Z
UID:4982-1775174400-1775433599@c3carlingford.org.au
SUMMARY:Easter 2026
DESCRIPTION:At the heart of the Cross is an unexpectedly beautiful hope — a new way of life. \nJoin us this Easter Weekend as we remember and celebrate what Jesus has done for the world. \nGood Friday: 3rd of April – 9:30am\nEaster Sunday: 5th of April
URL:https://c3carlingford.org.au/event/easter-2026/
LOCATION:Carlingford High School\, Australia
ATTACH;FMTTYPE=image/jpeg:https://c3carlingford.org.au/wp-content/uploads/2026/03/2603-EASTER-Web.jpeg
END:VEVENT
BEGIN:VEVENT
DTSTART;TZID=Australia/Sydney:20260423T190000
DTEND;TZID=Australia/Sydney:20260423T210000
DTSTAMP:20260422T041342
CREATED:20260328T030707Z
LAST-MODIFIED:20260328T030707Z
UID:4996-1776970800-1776978000@c3carlingford.org.au
SUMMARY:Circuit Breaker Course 2026
DESCRIPTION:Feeling like your fuse is about to blow? \nWhen pressure builds\, it’s easy for conflict to spark and relationships to short-circuit. The Circuit Breaker Course is designed to help you reset before things overload. Across 10 weeks\, starting Thursday 23rd April\, you’ll learn practical tools to defuse tension\, repair connections\, and keep the power flowing in your relationships. \nRegister HERE and take a step toward stronger\, healthier relationships!
URL:https://c3carlingford.org.au/event/circuit-breaker-course-2026/
LOCATION:Ministry Centre\, 7 Loftus Road\, Pennant Hills\, NSW\, 2120\, Australia
ATTACH;FMTTYPE=image/jpeg:https://c3carlingford.org.au/wp-content/uploads/2026/03/2604-Circuit-Breaker-Web.jpg
ORGANIZER;CN="Zoe Stewart":MAILTO:zstewart@c3carlingford.org.au
END:VEVENT
BEGIN:VEVENT
DTSTART;TZID=Australia/Sydney:20260502T063000
DTEND;TZID=Australia/Sydney:20260502T210000
DTSTAMP:20260422T041342
CREATED:20260410T070120Z
LAST-MODIFIED:20260411T111452Z
UID:5000-1777703400-1777755600@c3carlingford.org.au
SUMMARY:Pickleball Plus 1
DESCRIPTION:Young Adults are taking to the pickleball court for our next social night! Come along for some rounds of pickleball\, a tasty meal and time to hang out together. Join us at 6:30pm at St Gerard’s Parish Hall (park in the Roselea Way Carpark and walk up) on Saturday 2nd May.\n\nWe’ve also made it easy to invite your crew: grab a single ticket for $15\, and if you bring a plus-one who doesn’t normally attend our church\, it’s $20 for both of you! Register HERE
URL:https://c3carlingford.org.au/event/pickleball-plus-1/
LOCATION:St Gerrards Parish Hall – Enter via Roselea Way
ATTACH;FMTTYPE=image/jpeg:https://c3carlingford.org.au/wp-content/uploads/2026/04/2605-Pickleball-Plus-1-Web-copy.jpg
END:VEVENT
BEGIN:VEVENT
DTSTART;VALUE=DATE:20260510
DTEND;VALUE=DATE:20260511
DTSTAMP:20260422T041342
CREATED:20260413T002802Z
LAST-MODIFIED:20260413T002802Z
UID:5007-1778371200-1778457599@c3carlingford.org.au
SUMMARY:Mother's Day 2026
DESCRIPTION:Mother’s Day is coming up very soon\, and we will be honouring the important women in our lives across all our services on that day! \nNow is the perfect time to give your Mum\, or another important woman in your life a call and invite her along to Church on Sunday 10th May so we can celebrate her with you then.
URL:https://c3carlingford.org.au/event/mothers-day-2026/
LOCATION:Carlingford High School\, Australia
ATTACH;FMTTYPE=image/jpeg:https://c3carlingford.org.au/wp-content/uploads/2026/04/Mother_s_Day_2014eba9d6.jpg
END:VEVENT
END:VCALENDAR