BEGIN:VCALENDAR
VERSION:2.0
PRODID:-//C3 Church Carlingford - ECPv6.15.20//NONSGML v1.0//EN
CALSCALE:GREGORIAN
METHOD:PUBLISH
X-WR-CALNAME:C3 Church Carlingford
X-ORIGINAL-URL:https://c3carlingford.org.au
X-WR-CALDESC:Events for C3 Church Carlingford
REFRESH-INTERVAL;VALUE=DURATION:PT1H
X-Robots-Tag:noindex
X-PUBLISHED-TTL:PT1H
BEGIN:VTIMEZONE
TZID:Australia/Sydney
BEGIN:STANDARD
TZOFFSETFROM:+1100
TZOFFSETTO:+1000
TZNAME:AEST
DTSTART:20230401T160000
END:STANDARD
BEGIN:DAYLIGHT
TZOFFSETFROM:+1000
TZOFFSETTO:+1100
TZNAME:AEDT
DTSTART:20230930T160000
END:DAYLIGHT
BEGIN:STANDARD
TZOFFSETFROM:+1100
TZOFFSETTO:+1000
TZNAME:AEST
DTSTART:20240406T160000
END:STANDARD
BEGIN:DAYLIGHT
TZOFFSETFROM:+1000
TZOFFSETTO:+1100
TZNAME:AEDT
DTSTART:20241005T160000
END:DAYLIGHT
BEGIN:STANDARD
TZOFFSETFROM:+1100
TZOFFSETTO:+1000
TZNAME:AEST
DTSTART:20250405T160000
END:STANDARD
BEGIN:DAYLIGHT
TZOFFSETFROM:+1000
TZOFFSETTO:+1100
TZNAME:AEDT
DTSTART:20251004T160000
END:DAYLIGHT
END:VTIMEZONE
BEGIN:VEVENT
DTSTART;TZID=Australia/Sydney:20241101T080000
DTEND;TZID=Australia/Sydney:20241201T170000
DTSTAMP:20260422T100510
CREATED:20241028T040852Z
LAST-MODIFIED:20241028T040852Z
UID:3805-1730448000-1733072400@c3carlingford.org.au
SUMMARY:Christmas Hamper Collection
DESCRIPTION:We are putting together Christmas Hampers for those in our community who are in financial difficulty. These hampers will help us to reach out this Christmas and bring joy to many individuals and families. \nTo take part\, all you need to do is bring specialty Christmas food (that does not require refrigeration) and place in the box at church\, during the month of November. \nExamples of items you could contribute include: Christmas cake\, fruit mince pies\, cookies\, chocolate\, lollies\, chips\, crackers\, bonbons\, serviettes. Thankyou for joining us in reaching out to those around us!!
URL:https://c3carlingford.org.au/event/christmas-hamper-collection/
LOCATION:Carlingford High School\, Australia
ATTACH;FMTTYPE=image/jpeg:https://c3carlingford.org.au/wp-content/uploads/2024/10/CH-HAMPERS.jpg
ORGANIZER;CN="Zoe Stewart":MAILTO:zstewart@c3carlingford.org.au
END:VEVENT
BEGIN:VEVENT
DTSTART;TZID=Australia/Sydney:20241101T000000
DTEND;TZID=Australia/Sydney:20241130T233000
DTSTAMP:20260422T100510
CREATED:20241028T041309Z
LAST-MODIFIED:20241028T041733Z
UID:3801-1730419200-1733009400@c3carlingford.org.au
SUMMARY:2025 Intern Program
DESCRIPTION:Whether you’re fresh out of school\, freshly retired or somewhere in between\, the C3 Carlingford and Wentworthville Intern Program is your chance to stretch into what God has for you in 2024\, while serving your church for a day a week (or more). \nFor more information\, why not download our 2025 Intern Program Information Pack! \nTo apply for inclusion in this coming years Intern Program click here to download an expression of interest form.
URL:https://c3carlingford.org.au/event/2025-intern-program/
ATTACH;FMTTYPE=image/jpeg:https://c3carlingford.org.au/wp-content/uploads/2024/10/Intern.jpg
END:VEVENT
BEGIN:VEVENT
DTSTART;TZID=Australia/Sydney:20241027T173000
DTEND;TZID=Australia/Sydney:20241027T190000
DTSTAMP:20260422T100510
CREATED:20241014T032714Z
LAST-MODIFIED:20241014T032753Z
UID:3711-1730050200-1730055600@c3carlingford.org.au
SUMMARY:Guest Speaker | Dan Paterson
DESCRIPTION:Dan Paterson\, a gifted Christian apologist\, is speaking in our PM service on Sunday 27th of October. \nThis year Dan is preaching on the topic\, “Is God a Moral Monster” in our PM Service. This is a service not to be missed\, invite your friends!
URL:https://c3carlingford.org.au/event/guest-speaker-dan-paterson/
LOCATION:Carlingford High School\, Australia
ATTACH;FMTTYPE=image/jpeg:https://c3carlingford.org.au/wp-content/uploads/2024/10/unnamed-3.jpg
END:VEVENT
BEGIN:VEVENT
DTSTART;TZID=Australia/Sydney:20241027T093000
DTEND;TZID=Australia/Sydney:20241027T130000
DTSTAMP:20260422T100510
CREATED:20241014T033000Z
LAST-MODIFIED:20241014T033031Z
UID:3717-1730021400-1730034000@c3carlingford.org.au
SUMMARY:Big Sunday | Blast Off
DESCRIPTION:Big Sunday is a fabulous morning gathering (930-1pm) with the community to remember that we are Better Together. Join us for an exciting Space-themed service for all ages followed by live Music and Sausage sizzle supplied by Roselea Primary School Bands\, inflatables\, crafts\, 9 hole mini golf\, Aussie Wildlife and lots of opportunities to have fun and connect.  What a great opportunity to invite a few friends to experience our church! \nClick Here to download a digital flyer to send to your friends!
URL:https://c3carlingford.org.au/event/big-sunday-blast-off/
LOCATION:Carlingford High School\, Australia
ATTACH;FMTTYPE=image/jpeg:https://c3carlingford.org.au/wp-content/uploads/2024/10/2410-Big-Sunday-BLAST-OFF-Web.jpg
ORGANIZER;CN="Linda Quinn":MAILTO:LQuinn@c3carlingford.org.au
END:VEVENT
BEGIN:VEVENT
DTSTART;TZID=Australia/Sydney:20241001T090000
DTEND;TZID=Australia/Sydney:20241004T163000
DTSTAMP:20260422T100510
CREATED:20240916T050029Z
LAST-MODIFIED:20240916T050524Z
UID:3647-1727773200-1728059400@c3carlingford.org.au
SUMMARY:Study Camp 2024
DESCRIPTION:Study Camp is an opportunity for our Year 11 and 12 students to gather to study with the assistance of youth leaders and experts in their HSC subjects. We will be meeting at the Ministry Centre from the 1st-4th of October from 9am until 4:30pm. As the event will be fully catered sign up will be $25 for each day that our Year 11s & 12s attend. \nWhere: Ministry Centre\, 7 Loftus Rd\, Pennant Hills\nWhen: Tuesday 1st- Friday 04th October\nTime: 9:00am-4:30pm\nWho: Year 11 & 12 students\nCost: $100 \nClick here to book your place.
URL:https://c3carlingford.org.au/event/study-camp-2024/
LOCATION:Ministry Centre\, 7 Loftus Road\, Pennant Hills\, NSW\, 2120\, Australia
ATTACH;FMTTYPE=image/png:https://c3carlingford.org.au/wp-content/uploads/2024/09/study-camp.png
ORGANIZER;CN="Tim Cornell":MAILTO:tcornell@c3carlingford.org.au
END:VEVENT
BEGIN:VEVENT
DTSTART;TZID=Australia/Sydney:20240928T180000
DTEND;TZID=Australia/Sydney:20240928T210000
DTSTAMP:20260422T100510
CREATED:20240916T050358Z
LAST-MODIFIED:20240916T050358Z
UID:3652-1727546400-1727557200@c3carlingford.org.au
SUMMARY:YAS - Young Adults Social | Bingo Ball
DESCRIPTION:It’s time to dress up in your finest suits or gowns and join us for the event of the year\, the Young Adults Bingo Ball! It will be a ‘sophisticated’ evening with a delicious meal\, delightful company and a lively bingo game. \nIt will be on Saturday 28th September from 6:00-9:00 and the cost is $20pp\, register HERE.
URL:https://c3carlingford.org.au/event/yas-young-adults-social-bingo-ball/
LOCATION:Ministry Centre\, 7 Loftus Road\, Pennant Hills\, NSW\, 2120\, Australia
ATTACH;FMTTYPE=image/png:https://c3carlingford.org.au/wp-content/uploads/2024/09/Bingo-Ball.png
ORGANIZER;CN="Andrea Molteno":MAILTO:amolteno@c3carlingford.org.au
END:VEVENT
BEGIN:VEVENT
DTSTART;VALUE=DATE:20240920
DTEND;VALUE=DATE:20240923
DTSTAMP:20260422T100510
CREATED:20240729T000923Z
LAST-MODIFIED:20240729T021955Z
UID:3437-1726790400-1727049599@c3carlingford.org.au
SUMMARY:The Forge | Men's Retreat
DESCRIPTION:Coping with change\, Pressures of life\, Maintaining integrity. In an increasingly complex world that seems to be making it harder for us to flourish as Humans\, its easy to turn to despair. There are challenges that men face today that are unique in history. \nAt The Forge Men’s retreat\, we will find hope\, truth and answers to the problems we are facing as men in a broken and complex world and learn how we can take responsibility to build our own lives and make a difference around us. \nPlease register for this event here.\nFor men aged 16 and up.
URL:https://c3carlingford.org.au/event/the-forge-mens-retreat/
ATTACH;FMTTYPE=image/png:https://c3carlingford.org.au/wp-content/uploads/2024/07/THE-FORGE-2.png
END:VEVENT
BEGIN:VEVENT
DTSTART;VALUE=DATE:20240915
DTEND;VALUE=DATE:20240916
DTSTAMP:20260422T100510
CREATED:20240729T041158Z
LAST-MODIFIED:20240729T041158Z
UID:3451-1726358400-1726444799@c3carlingford.org.au
SUMMARY:Water Baptisms
DESCRIPTION:One of the most fundamental things we can do as a Christian is to be water baptised! If you have never taken this step of faith and obedience\, we have an opportunity coming up in all our services on Sunday 15th September. \nPlease contact Ps. Jen in the church office if you are interested. Expressions of interest close on Monday 2nd September.
URL:https://c3carlingford.org.au/event/water-baptisms-2/
LOCATION:Carlingford High School\, Australia
ATTACH;FMTTYPE=image/jpeg:https://c3carlingford.org.au/wp-content/uploads/2024/07/21-Baptism.jpg
ORGANIZER;CN="Jen Irving":MAILTO:JIrving@c3carlingford.org.au
END:VEVENT
BEGIN:VEVENT
DTSTART;TZID=Australia/Sydney:20240908T123000
DTEND;TZID=Australia/Sydney:20240908T144500
DTSTAMP:20260422T100510
CREATED:20240603T021930Z
LAST-MODIFIED:20240804T232531Z
UID:3203-1725798600-1725806700@c3carlingford.org.au
SUMMARY:Welcome Lunch
DESCRIPTION:Our Welcome Lunches are designed for people who are new to church!\nCome and meet our pastors and key leaders over lunch on Sunday 8th of September at our Ministry Centre in Pennant Hills. You will have the opportunity to meet our leaders\, ask questions and find out all about our church.\nLunch will start promptly at 12:30pm and is free but we do need RSVPs for catering purposes by Tuesday 3rd of September.\nIf you need childcare or have specific dietary requirements\, please let us know! Book your free spot HERE.
URL:https://c3carlingford.org.au/event/welcome-lunch-2/
LOCATION:Ministry Centre\, 7 Loftus Road\, Pennant Hills\, NSW\, 2120\, Australia
ATTACH;FMTTYPE=image/jpeg:https://c3carlingford.org.au/wp-content/uploads/2024/06/24-WL_web_details.jpg
ORGANIZER;CN="Jen Irving":MAILTO:JIrving@c3carlingford.org.au
END:VEVENT
BEGIN:VEVENT
DTSTART;VALUE=DATE:20240901
DTEND;VALUE=DATE:20240902
DTSTAMP:20260422T100510
CREATED:20240818T234106Z
LAST-MODIFIED:20240818T234106Z
UID:3555-1725148800-1725235199@c3carlingford.org.au
SUMMARY:Father's Day
DESCRIPTION:God’s fatherly love for us is not just emotional\, its transformational! \nJoin us for our special Father’s Day services on 1 September. \nThere will be a gift for all men over 18 who attend the services and we will all discover that there is more than meets the eye to being a parent…
URL:https://c3carlingford.org.au/event/fathers-day/
LOCATION:Carlingford High School\, Australia
ATTACH;FMTTYPE=image/jpeg:https://c3carlingford.org.au/wp-content/uploads/2024/08/Fathers-Day.jpg
ORGANIZER;CN="Justin Ware":MAILTO:jware@c3carlingford.org.au
END:VEVENT
BEGIN:VEVENT
DTSTART;TZID=Australia/Sydney:20240825T093000
DTEND;TZID=Australia/Sydney:20240825T140000
DTSTAMP:20260422T100510
CREATED:20240729T000737Z
LAST-MODIFIED:20240729T052659Z
UID:3434-1724578200-1724594400@c3carlingford.org.au
SUMMARY:30th Anniversary Service and Celebration
DESCRIPTION:We are celebrating 30 years as a church. This is a hugely significant milestone\, and we want to join with you to share our thankfulness to God for what he has done!\nWe can’t wait to celebrate with you! \nFor more information\, please click here.
URL:https://c3carlingford.org.au/event/30th-anniversary-service-and-celebration/
LOCATION:Carlingford High School\, Australia
ATTACH;FMTTYPE=image/jpeg:https://c3carlingford.org.au/wp-content/uploads/2024/07/Eras-3-Draft.jpg
END:VEVENT
BEGIN:VEVENT
DTSTART;VALUE=DATE:20240818
DTEND;VALUE=DATE:20240819
DTSTAMP:20260422T100510
CREATED:20240804T230555Z
LAST-MODIFIED:20240804T230555Z
UID:3506-1723939200-1724025599@c3carlingford.org.au
SUMMARY:Guest Speaker | Pastor John Finkelde
DESCRIPTION:Ps. John Finkelde will be preaching for us in our services on Sunday 18th August. \nPs John is our Church Overseer\, leads the church consultancy ‘Grow a Healthy Church’ and has been coming to us each year for over fifteen years. He always brings a word from God to encourage us as a church\, so plan to be in a service on Sunday 18th August.
URL:https://c3carlingford.org.au/event/guest-speaker-pastor-john-finkelde/
LOCATION:Carlingford High School\, Australia
ATTACH;FMTTYPE=image/jpeg:https://c3carlingford.org.au/wp-content/uploads/2024/08/7efd6fbf-6ab7-aa72-0b9d-33892f6b9f33.jpg
END:VEVENT
BEGIN:VEVENT
DTSTART;TZID=Australia/Sydney:20240803T133000
DTEND;TZID=Australia/Sydney:20240803T190000
DTSTAMP:20260422T100510
CREATED:20240630T233459Z
LAST-MODIFIED:20240729T042806Z
UID:3320-1722691800-1722711600@c3carlingford.org.au
SUMMARY:Flourish | Women's Event
DESCRIPTION:Our annual women’s event\, Flourish\, is coming up on Saturday 3rd August for all women 15+! \nThe theme for this year is ‘Restored’\, and it will be an afternoon of encouragement and refreshment from being in God’s presence and hearing His Word. \nWe’ll also have the space to connect with one another and share afternoon tea and an early dinner together. \nRegister today\, invite a friend\, and we look forward to seeing you there! \nRegister here.
URL:https://c3carlingford.org.au/event/flourish/
ATTACH;FMTTYPE=image/jpeg:https://c3carlingford.org.au/wp-content/uploads/2024/07/2408-Flourish-Web.jpg
ORGANIZER;CN="Laura Samperi":MAILTO:info@c3carlingford.org.au
END:VEVENT
BEGIN:VEVENT
DTSTART;TZID=Australia/Sydney:20240725T193000
DTEND;TZID=Australia/Sydney:20240926T210000
DTSTAMP:20260422T100510
CREATED:20240624T030440Z
LAST-MODIFIED:20240630T233124Z
UID:3252-1721935800-1727384400@c3carlingford.org.au
SUMMARY:Circuit Breaker Course
DESCRIPTION:Have you ever lost your temper and said something you later regretted? \nAre you having conflicts that escalate quickly? \nThe Circuit Breaker course will help you! This 10 week course will teach you new tools to mend relationships\, resolve conflict and stop you blowing your fuse. \nStarts Thursday 25th July. Register here before Friday 19th July.
URL:https://c3carlingford.org.au/event/circuit-breaker-course/
ATTACH;FMTTYPE=image/png:https://c3carlingford.org.au/wp-content/uploads/2024/06/2307-Circuit-Breaker-Web-copy.png
END:VEVENT
BEGIN:VEVENT
DTSTART;TZID=Australia/Sydney:20240723T193000
DTEND;TZID=Australia/Sydney:20240924T213000
DTSTAMP:20260422T100510
CREATED:20240623T221038Z
LAST-MODIFIED:20240624T033315Z
UID:3243-1721763000-1727213400@c3carlingford.org.au
SUMMARY:Steps To Freedom In Christ Course
DESCRIPTION:Becoming more like Christ is a lifelong venture but sometimes we can find ourselves “stuck”\, struggling to connect with the truth of who we are in Christ. The Steps to Freedom in Christ Course is specifically designed to help Christians take hold of their identity in Christ\, resolve personal and spiritual conflicts\, and learn strategies for renewing their mind to break free from patterns of negative thinking and behaviour. \nCome and join us on Tuesday evenings during term 3 at the Ministry Centre for this life-altering course! \nThe cost is $25 and you can register HERE.
URL:https://c3carlingford.org.au/event/steps-to-freedom-in-christ/
LOCATION:Ministry Centre\, 7 Loftus Road\, Pennant Hills\, NSW\, 2120\, Australia
ATTACH;FMTTYPE=image/png:https://c3carlingford.org.au/wp-content/uploads/2024/06/WEB.png
ORGANIZER;CN="Jen Irving":MAILTO:JIrving@c3carlingford.org.au
END:VEVENT
BEGIN:VEVENT
DTSTART;TZID=Australia/Sydney:20240705T190000
DTEND;TZID=Australia/Sydney:20240707T120000
DTSTAMP:20260422T100510
CREATED:20240512T074825Z
LAST-MODIFIED:20240512T075014Z
UID:3092-1720206000-1720353600@c3carlingford.org.au
SUMMARY:YAWT 2024
DESCRIPTION:Our annual Young Adults Weekend Trip (YAWT) returns in 2024 for a 2-night getaway. The theme for the weekend is “The Almighty Shepherd” exploring what it looks like to have Jesus as our shepherd in the midst of life. \nWe have flexible payment plans available to guarantee you get to YAWT. You can apply for one when you register HERE.
URL:https://c3carlingford.org.au/event/yawt-2024/
ATTACH;FMTTYPE=image/jpeg:https://c3carlingford.org.au/wp-content/uploads/2024/05/2407-yawt-web.jpeg
END:VEVENT
BEGIN:VEVENT
DTSTART;TZID=Australia/Sydney:20240703T200000
DTEND;TZID=Australia/Sydney:20240703T210000
DTSTAMP:20260422T100510
CREATED:20240623T222631Z
LAST-MODIFIED:20240624T030717Z
UID:3247-1720036800-1720040400@c3carlingford.org.au
SUMMARY:ALL IN - Combined Church Prayer Gathering
DESCRIPTION:We are coming together as one Church across two locations for our monthly prayer gathering. This month we will be meeting together at Toongabbie East Public School on the 3rd of July. \nPraying is one of the most engaging experiences of our faith.  In our monthly prayer gatherings\, we pray for the needs of the church and the world. \nThe Zoom link for those wishing to join us online will be in next weeks email.
URL:https://c3carlingford.org.au/event/all-in-combined-church-prayer-gathering/
LOCATION:Toongabbie East Public School\, 2 Harris Rd\, Wentworthville\, NSW\, 2145\, Australia
ATTACH;FMTTYPE=image/png:https://c3carlingford.org.au/wp-content/uploads/2024/06/ALL-IN-COMBINED-PRAYER-GATHERING.png
END:VEVENT
BEGIN:VEVENT
DTSTART;VALUE=DATE:20240630
DTEND;VALUE=DATE:20240701
DTSTAMP:20260422T100510
CREATED:20240603T030851Z
LAST-MODIFIED:20240606T045137Z
UID:3206-1719705600-1719791999@c3carlingford.org.au
SUMMARY:End of Financial Year
DESCRIPTION:Tax Deductible Giving \nWith the end of the financial year approaching you can support our tax-deductible giving opportunities to further the vision and mission of Christ through our church \n\nSRE (Scripture) ministry\nWork with COACH\nBenevolent work in the community\n\nTo give today\, go to https://c3carlingford.org.au/giving/ and click the button that says “Tax Deductible Giving”
URL:https://c3carlingford.org.au/event/end-of-financial-year/
ATTACH;FMTTYPE=image/png:https://c3carlingford.org.au/wp-content/uploads/2024/06/EOFY.png
ORGANIZER;CN="Justin Ware":MAILTO:jware@c3carlingford.org.au
END:VEVENT
BEGIN:VEVENT
DTSTART;TZID=Australia/Sydney:20240622T140000
DTEND;TZID=Australia/Sydney:20240622T170000
DTSTAMP:20260422T100510
CREATED:20240603T020921Z
LAST-MODIFIED:20240604T040838Z
UID:3199-1719064800-1719075600@c3carlingford.org.au
SUMMARY:Ageing Parents Seminar
DESCRIPTION:Are you involved in caring for an older relative? \nConfused by My Aged Care? \nInterested in knowing how best to support your ageing parents and looking after yourself in the process? \nCome along to the Ageing Parents Seminar and learn about the various government benefits\, levels of care\, the legal aspects\, and what “good” ageing looks like. \nRegister  HERE by Wed 19th June.
URL:https://c3carlingford.org.au/event/ageing-parents-seminar/
ATTACH;FMTTYPE=image/jpeg:https://c3carlingford.org.au/wp-content/uploads/2024/06/2406-Ageing-Parents-Seminar-Web.jpg
END:VEVENT
BEGIN:VEVENT
DTSTART;TZID=Australia/Sydney:20240620T193000
DTEND;TZID=Australia/Sydney:20240620T210000
DTSTAMP:20260422T100510
CREATED:20240527T035730Z
LAST-MODIFIED:20240618T010138Z
UID:3152-1718911800-1718917200@c3carlingford.org.au
SUMMARY:Keeping Your Cool - Free Community Seminar
DESCRIPTION:If you’ve ever ever lost your temper at home\, then said regrettable things to the people you love\, then this free community seminar is just for you. \nMatt Boulton\, creator of the Circuit Breaker course\, will provide you with practical simple tools to resolve conflict\, improve communication and nurture relationships. \nThis is a free community seminar\, and will be held at the Ministry Centre from 7:30pm on Saturday the 22nd of June.
URL:https://c3carlingford.org.au/event/keeping-your-cool-free-community-seminar/
LOCATION:Ministry Centre\, 7 Loftus Road\, Pennant Hills\, NSW\, 2120\, Australia
ATTACH;FMTTYPE=image/jpeg:https://c3carlingford.org.au/wp-content/uploads/2024/05/Keeping.jpg
ORGANIZER;CN="Zoe Stewart":MAILTO:zstewart@c3carlingford.org.au
END:VEVENT
BEGIN:VEVENT
DTSTART;VALUE=DATE:20240616
DTEND;VALUE=DATE:20240617
DTSTAMP:20260422T100510
CREATED:20240527T040001Z
LAST-MODIFIED:20240603T020541Z
UID:3157-1718496000-1718582399@c3carlingford.org.au
SUMMARY:Guest Speaker | Pastor Katie Haldane
DESCRIPTION:Pastor Katie Haldane is joining us to preach in our AM and PM services on the 16th of June. \nKatie Haldane is an exceptional communicator of God’s Word.  As part of the preaching and teaching team at C3 Oxford Falls she regularly opens God’s Word bringing it to life and helping people apply its truth with grace. \nKatie will be speaking in our AM Service in our Prayer Series and in our PM Service in our Relationships series.
URL:https://c3carlingford.org.au/event/guest-speaker-pastor-katie-haldane/
LOCATION:Carlingford High School\, Australia
ATTACH;FMTTYPE=image/jpeg:https://c3carlingford.org.au/wp-content/uploads/2024/05/2406-Guest-Speaker-Katie-Haldane-Web.jpg
END:VEVENT
BEGIN:VEVENT
DTSTART;VALUE=DATE:20240519
DTEND;VALUE=DATE:20240520
DTSTAMP:20260422T100510
CREATED:20240505T225919Z
LAST-MODIFIED:20240505T225935Z
UID:3053-1716076800-1716163199@c3carlingford.org.au
SUMMARY:Pentecost - POWER TO LIVE
DESCRIPTION:Pentecost is the celebration of the coming of the Holy Spirit in power on the church. \nWe will be celebrating in our AM & PM services with services crafted for encounter with the Spirit to be refreshed\, refired and empowered. \nInvite your friends and family and come ready to encounter the Holy Spirit and His power to live!
URL:https://c3carlingford.org.au/event/pentecost-power-to-live/
LOCATION:Carlingford High School\, Australia
ATTACH;FMTTYPE=image/jpeg:https://c3carlingford.org.au/wp-content/uploads/2024/05/2403-Pentecost-Power-To-Live-WEB.jpg
END:VEVENT
BEGIN:VEVENT
DTSTART;VALUE=DATE:20240512
DTEND;VALUE=DATE:20240513
DTSTAMP:20260422T100510
CREATED:20240505T225707Z
LAST-MODIFIED:20240505T225707Z
UID:3049-1715472000-1715558399@c3carlingford.org.au
SUMMARY:Mother's Day
DESCRIPTION:Mother’s Day is this Sunday! Across all our services\, we’re going to celebrate all the amazing women in our lives. \nIt is time to call your Mum and ask her to join you for an amazing service.
URL:https://c3carlingford.org.au/event/mothers-day/
LOCATION:Carlingford High School\, Australia
ATTACH;FMTTYPE=image/png:https://c3carlingford.org.au/wp-content/uploads/2024/05/Mothers-Day-4-by-3-slides-1.png
END:VEVENT
BEGIN:VEVENT
DTSTART;TZID=Australia/Sydney:20240430T193000
DTEND;TZID=Australia/Sydney:20240430T210000
DTSTAMP:20260422T100510
CREATED:20240403T073844Z
LAST-MODIFIED:20240408T230409Z
UID:2919-1714505400-1714510800@c3carlingford.org.au
SUMMARY:COME FOLLOW ME
DESCRIPTION:The Come Follow Me Course is designed for people who come from a Muslim background and who have started to follow Jesus. It will be held in Pennant Hills on Tuesday evenings from 7:30-9:00pm starting 30th April. \nThere is a small amount of easy homework each week – 15-30 mins/week – so please be prepared to set aside this time as you will gain the most from the course. There is also a workbook\, available in both English and Farsi\, which costs $10.
URL:https://c3carlingford.org.au/event/come-follow-me/
ATTACH;FMTTYPE=image/jpeg:https://c3carlingford.org.au/wp-content/uploads/2024/03/Come-follow-me.jpg
END:VEVENT
BEGIN:VEVENT
DTSTART;VALUE=DATE:20240423
DTEND;VALUE=DATE:20240424
DTSTAMP:20260422T100510
CREATED:20240416T021949Z
LAST-MODIFIED:20240416T043601Z
UID:2959-1713830400-1713916799@c3carlingford.org.au
SUMMARY:YAC Term 2
DESCRIPTION:Every term our Young Adults community gathers for their YAC events. YAC stands for ‘Young Adults Combined’\, and it’s a time to combine and have a shared meal. \nThis term we are having burgers so please bring a burger filling to share. For the location please contact Ps Andrea.
URL:https://c3carlingford.org.au/event/yac-term-2/
ATTACH;FMTTYPE=image/jpeg:https://c3carlingford.org.au/wp-content/uploads/2024/04/YAC.jpg
END:VEVENT
BEGIN:VEVENT
DTSTART;TZID=Australia/Sydney:20240421T193000
DTEND;TZID=Australia/Sydney:20240421T203000
DTSTAMP:20260422T100510
CREATED:20240405T102357Z
LAST-MODIFIED:20240405T102357Z
UID:2925-1713727800-1713731400@c3carlingford.org.au
SUMMARY:WELCOME DINNER
DESCRIPTION:We are having a Welcome Dinner after the PM service on Sun 21st April to allow you to meet our pastors and leaders\, hear about our church and answer any questions you may have about us. \nIf you’re new to church or have never been to a Welcome Dinner before\, we would love you to join us. \nDinner is FREE you just need to RSVP HERE by Wednesday 17th April!
URL:https://c3carlingford.org.au/event/welcome-dinner/
ATTACH;FMTTYPE=image/jpeg:https://c3carlingford.org.au/wp-content/uploads/2024/04/24-Welcome-Dinner-Web.jpg
END:VEVENT
BEGIN:VEVENT
DTSTART;TZID=Australia/Sydney:20240329T093000
DTEND;TZID=Australia/Sydney:20240331T170000
DTSTAMP:20260422T100510
CREATED:20240317T212123Z
LAST-MODIFIED:20240317T212123Z
UID:2825-1711704600-1711904400@c3carlingford.org.au
SUMMARY:Easter Services
DESCRIPTION:Good Friday 29 March – is an All-In creative service experience as we celebrate Jesus’ sacrifice.  So why not ‘Come to the Table’ and bring some friends to experience the essence of Jesus’ sacrifice. \nEaster Sunday 31 March – AM & PM Services celebrating the Resurrection of Jesus. \nAs always these are services not to be missed – please pray for everyone to experience God’s grace\, love and power this Easter!
URL:https://c3carlingford.org.au/event/easter-services/
ATTACH;FMTTYPE=image/jpeg:https://c3carlingford.org.au/wp-content/uploads/2024/03/2403-Come-To-The-Table-Web.jpg
END:VEVENT
BEGIN:VEVENT
DTSTART;VALUE=DATE:20240325
DTEND;VALUE=DATE:20240326
DTSTAMP:20260422T100510
CREATED:20240317T211724Z
LAST-MODIFIED:20240317T211724Z
UID:2820-1711324800-1711411199@c3carlingford.org.au
SUMMARY:Water Baptisms
DESCRIPTION:Expressions Of Interest Close 25th March\nOne of the most fundamental things we can do as a Christian is to be water baptised! If you have never taken this step of faith and obedience\, we have an opportunity coming up in all our services on Sunday 7thApril. \nPlease contact Ps. Jen in the church office if you are interested. Expressions of interest close on Monday 25th March.
URL:https://c3carlingford.org.au/event/water-baptisms/
END:VEVENT
BEGIN:VEVENT
DTSTART;TZID=Australia/Sydney:20240324T093000
DTEND;TZID=Australia/Sydney:20240324T153000
DTSTAMP:20260422T100510
CREATED:20240212T034543Z
LAST-MODIFIED:20240317T212155Z
UID:2752-1711272600-1711294200@c3carlingford.org.au
SUMMARY:COACH Training
DESCRIPTION:Do you have a passion for helping people flourish in life? Could you become a mentor to someone? The COACH mentoring program teaches and equips you to walk alongside people who are doing it tough\, and see their lives transformed. \nTo find out more about what it means to be a COACH mentor please join our information and training day on Saturday 2nd of March from 9am-3.30pm at the Ministry Centre\, 7 Loftus Rd Pennant Hills. \nTo find out more about COACH mentoring you can look at their website. \nhttps://www.coachnetwork.org/ \nIf you would like to register for the training\, click HERE.
URL:https://c3carlingford.org.au/event/coach-training/
LOCATION:Ministry Centre\, 7 Loftus Road\, Pennant Hills\, NSW\, 2120\, Australia
ATTACH;FMTTYPE=image/png:https://c3carlingford.org.au/wp-content/uploads/2024/02/COACH.png
ORGANIZER;CN="Zoe Stewart":MAILTO:zstewart@c3carlingford.org.au
END:VEVENT
BEGIN:VEVENT
DTSTART;VALUE=DATE:20240318
DTEND;VALUE=DATE:20240319
DTSTAMP:20260422T100510
CREATED:20240317T211924Z
LAST-MODIFIED:20240317T211924Z
UID:2822-1710720000-1710806399@c3carlingford.org.au
SUMMARY:Budgeting Course
DESCRIPTION:Thursdays 21st & 28th March 2024\nSet yourself up with good financial habits that will last. Learn how to budget\, save and spend at the Budgeting Course. Register here.
URL:https://c3carlingford.org.au/event/budgeting-course/
ATTACH;FMTTYPE=image/jpeg:https://c3carlingford.org.au/wp-content/uploads/2024/03/2403-Budgeting-Course-Cap-Money-Web.jpg
END:VEVENT
END:VCALENDAR