BEGIN:VCALENDAR
VERSION:2.0
PRODID:-//C3 Church Carlingford - ECPv6.15.20//NONSGML v1.0//EN
CALSCALE:GREGORIAN
METHOD:PUBLISH
X-WR-CALNAME:C3 Church Carlingford
X-ORIGINAL-URL:https://c3carlingford.org.au
X-WR-CALDESC:Events for C3 Church Carlingford
REFRESH-INTERVAL;VALUE=DURATION:PT1H
X-Robots-Tag:noindex
X-PUBLISHED-TTL:PT1H
BEGIN:VTIMEZONE
TZID:Australia/Sydney
BEGIN:STANDARD
TZOFFSETFROM:+1100
TZOFFSETTO:+1000
TZNAME:AEST
DTSTART:20230401T160000
END:STANDARD
BEGIN:DAYLIGHT
TZOFFSETFROM:+1000
TZOFFSETTO:+1100
TZNAME:AEDT
DTSTART:20230930T160000
END:DAYLIGHT
BEGIN:STANDARD
TZOFFSETFROM:+1100
TZOFFSETTO:+1000
TZNAME:AEST
DTSTART:20240406T160000
END:STANDARD
BEGIN:DAYLIGHT
TZOFFSETFROM:+1000
TZOFFSETTO:+1100
TZNAME:AEDT
DTSTART:20241005T160000
END:DAYLIGHT
BEGIN:STANDARD
TZOFFSETFROM:+1100
TZOFFSETTO:+1000
TZNAME:AEST
DTSTART:20250405T160000
END:STANDARD
BEGIN:DAYLIGHT
TZOFFSETFROM:+1000
TZOFFSETTO:+1100
TZNAME:AEDT
DTSTART:20251004T160000
END:DAYLIGHT
END:VTIMEZONE
BEGIN:VEVENT
DTSTART;VALUE=DATE:20240203
DTEND;VALUE=DATE:20240205
DTSTAMP:20260423T080643
CREATED:20240110T081803Z
LAST-MODIFIED:20240131T004908Z
UID:2058-1706918400-1707091199@c3carlingford.org.au
SUMMARY:VISION WEEKEND
DESCRIPTION:3rd + 4th February 2024\n\nEach year in February we launch the Vision for the year ahead on Vision Weekend. This is a powerful time where we get to hear our church’s direction for the year. \nVision Saturday 3rd Feb: 9:00am – 12.30pm – All-In Volunteer’s Gathering For everyone involved in Ministry across the church @ Carlingford High School\nVision Sunday 4th Feb: 9.30am – All-In Church Service (C3 Carlingford AM\, PM & C4 Real + C3 Wentworthville) @ Carlingford High School
URL:https://c3carlingford.org.au/event/save-the-date-vision-weekend/
LOCATION:Carlingford High School\, Australia
ATTACH;FMTTYPE=image/png:https://c3carlingford.org.au/wp-content/uploads/2024/01/2402-Vision-Weekend-Web-1.png
END:VEVENT
BEGIN:VEVENT
DTSTART;TZID=Australia/Sydney:20240117T200000
DTEND;TZID=Australia/Sydney:20240117T210000
DTSTAMP:20260423T080643
CREATED:20240110T071417Z
LAST-MODIFIED:20240110T083126Z
UID:2043-1705521600-1705525200@c3carlingford.org.au
SUMMARY:JANUARY PRAYER GATHERING
DESCRIPTION:Praying is one of the most engaging experiences of our faith. In our monthly prayer gatherings we pray for the needs of the church and the world and our next prayer gathering is on Wednesday 17th January at 8pm at the Ministry Centre (7 Loftus Road Pennant Hills) or via ZOOM.
URL:https://c3carlingford.org.au/event/january-prayer-gathering/
LOCATION:Ministry Centre and Online\, Australia
ATTACH;FMTTYPE=image/jpeg:https://c3carlingford.org.au/wp-content/uploads/2024/01/prayer-gathering.jpeg
END:VEVENT
BEGIN:VEVENT
DTSTART;TZID=Australia/Sydney:20240114T093000
DTEND;TZID=Australia/Sydney:20240114T233000
DTSTAMP:20260423T080643
CREATED:20240110T081938Z
LAST-MODIFIED:20240110T082957Z
UID:2061-1705224600-1705275000@c3carlingford.org.au
SUMMARY:ONLINE SERVICE REFRESH
DESCRIPTION:Church Online Returning 14th January\n\nIn the new year\, we’re changing up our online presence. We’ve now run an online service for nearly four years. Thank you to all those who have been involved in running this service over the years; we couldn’t have done it without you. We know the online service has been a blessing for many. \nRecently\, we’ve noticed a change in how people use the service\, so we plan to return next year with a renewed focus on preaching the word. \nOur last service in its current form will be on Sunday 24th of December\, and we’ll see you in the new year on  Sunday 14th of January. Our plan is that you’ll still be able to view it each week at 9:30am on Church Online or via our YouTube channel.
URL:https://c3carlingford.org.au/event/online-service-refresh/
LOCATION:Church Online\, Australia
END:VEVENT
END:VCALENDAR