BEGIN:VCALENDAR
VERSION:2.0
PRODID:-//C3 Church Carlingford - ECPv6.15.20//NONSGML v1.0//EN
CALSCALE:GREGORIAN
METHOD:PUBLISH
X-ORIGINAL-URL:https://c3carlingford.org.au
X-WR-CALDESC:Events for C3 Church Carlingford
REFRESH-INTERVAL;VALUE=DURATION:PT1H
X-Robots-Tag:noindex
X-PUBLISHED-TTL:PT1H
BEGIN:VTIMEZONE
TZID:Australia/Sydney
BEGIN:STANDARD
TZOFFSETFROM:+1100
TZOFFSETTO:+1000
TZNAME:AEST
DTSTART:20230401T160000
END:STANDARD
BEGIN:DAYLIGHT
TZOFFSETFROM:+1000
TZOFFSETTO:+1100
TZNAME:AEDT
DTSTART:20230930T160000
END:DAYLIGHT
BEGIN:STANDARD
TZOFFSETFROM:+1100
TZOFFSETTO:+1000
TZNAME:AEST
DTSTART:20240406T160000
END:STANDARD
BEGIN:DAYLIGHT
TZOFFSETFROM:+1000
TZOFFSETTO:+1100
TZNAME:AEDT
DTSTART:20241005T160000
END:DAYLIGHT
BEGIN:STANDARD
TZOFFSETFROM:+1100
TZOFFSETTO:+1000
TZNAME:AEST
DTSTART:20250405T160000
END:STANDARD
BEGIN:DAYLIGHT
TZOFFSETFROM:+1000
TZOFFSETTO:+1100
TZNAME:AEDT
DTSTART:20251004T160000
END:DAYLIGHT
END:VTIMEZONE
BEGIN:VEVENT
DTSTART;VALUE=DATE:20240203
DTEND;VALUE=DATE:20240205
DTSTAMP:20260421T111619
CREATED:20240110T081803Z
LAST-MODIFIED:20240131T004908Z
UID:2058-1706918400-1707091199@c3carlingford.org.au
SUMMARY:VISION WEEKEND
DESCRIPTION:3rd + 4th February 2024\n\nEach year in February we launch the Vision for the year ahead on Vision Weekend. This is a powerful time where we get to hear our church’s direction for the year. \nVision Saturday 3rd Feb: 9:00am – 12.30pm – All-In Volunteer’s Gathering For everyone involved in Ministry across the church @ Carlingford High School\nVision Sunday 4th Feb: 9.30am – All-In Church Service (C3 Carlingford AM\, PM & C4 Real + C3 Wentworthville) @ Carlingford High School
URL:https://c3carlingford.org.au/event/save-the-date-vision-weekend/
LOCATION:Carlingford High School\, Australia
ATTACH;FMTTYPE=image/png:https://c3carlingford.org.au/wp-content/uploads/2024/01/2402-Vision-Weekend-Web-1.png
END:VEVENT
BEGIN:VEVENT
DTSTART;VALUE=DATE:20240205
DTEND;VALUE=DATE:20240208
DTSTAMP:20260421T111619
CREATED:20240121T223153Z
LAST-MODIFIED:20240131T004805Z
UID:2215-1707091200-1707350399@c3carlingford.org.au
SUMMARY:VISION MONTH FAST
DESCRIPTION:Date: 5-7th February \nJesus says\, “When you fast…” in Matthew 6:16 and in so doing calls us to a spiritual practice that purifies\, focuses and intensifies our prayer life.  As we commence our church year we’re calling the church to fast on 5\, 6 & 7 February.\n\nWe will gather at 6.30am each morning for an hour of prayer at the Ministry Centre & on Zoom to pray for our Nation\, Revival\, an outpouring of the Holy Spirit\, effective evangelism and for our church.  (If you would like more details on Fasting please click HERE for a short booklet.)
URL:https://c3carlingford.org.au/event/vision-month-fast/
ATTACH;FMTTYPE=image/jpeg:https://c3carlingford.org.au/wp-content/uploads/2024/01/2402-Vision-Month-Fast-Web.jpg
END:VEVENT
BEGIN:VEVENT
DTSTART;VALUE=DATE:20240207
DTEND;VALUE=DATE:20240229
DTSTAMP:20260421T111619
CREATED:20240131T011728Z
LAST-MODIFIED:20240131T011728Z
UID:2539-1707264000-1709164799@c3carlingford.org.au
SUMMARY:VISION MONTH PRAYER GATHERINGS
DESCRIPTION:Wednesday Evenings in February 8-9pm Onsite OR On Zoom\nDuring February we will gather together Onsite and Online to pray for our church every Wednesday evening at 8pm.  These are always an inspiring time of prayer as we focus on the various ministries of the church and what God is going to do in and through them over the year.  We will pray Onsite at the Ministry Centre or Toongabbie East Public School each week so keep your eyes on the weekly email for the venue each week.
URL:https://c3carlingford.org.au/event/vision-month-prayer-gatherings/
ATTACH;FMTTYPE=image/png:https://c3carlingford.org.au/wp-content/uploads/2024/01/2402-Vision-Month-Prayer-Gathering-Web.png
END:VEVENT
BEGIN:VEVENT
DTSTART;VALUE=DATE:20240213
DTEND;VALUE=DATE:20240214
DTSTAMP:20260421T111619
CREATED:20240131T004653Z
LAST-MODIFIED:20240212T024409Z
UID:2526-1707782400-1707868799@c3carlingford.org.au
SUMMARY:ALPHA
DESCRIPTION:Do you or a friend have questions about faith?  At Alpha\, you can ask anything… seriously! \nAlpha is a safe space to ask questions about life\, faith and meaning and it’s free!  In both English and Farsi Alpha will commence the 13th February so why not jump register your interest today HERE.
URL:https://c3carlingford.org.au/event/alpha/
ATTACH;FMTTYPE=image/jpeg:https://c3carlingford.org.au/wp-content/uploads/2024/01/2402-Farsi-Alpha-Web.jpg
END:VEVENT
BEGIN:VEVENT
DTSTART;TZID=Australia/Sydney:20240214T200000
DTEND;TZID=Australia/Sydney:20240214T210000
DTSTAMP:20260421T111619
CREATED:20240121T222414Z
LAST-MODIFIED:20240131T012015Z
UID:2208-1707940800-1707944400@c3carlingford.org.au
SUMMARY:BIBLE COLLEGE
DESCRIPTION:Date: Semester Starts 14th Feb \nAre you interested in pursuing further training in ministry? C3 College runs a Cert IV online that many of our people have completed and found incredibly helpful. There are topics ranging from Faith and Leadership through to Church Doctrine and Surveys of the New and Old Testaments. \nIf you are interested\, please go click HERE.
URL:https://c3carlingford.org.au/event/bible-college/
ATTACH;FMTTYPE=image/jpeg:https://c3carlingford.org.au/wp-content/uploads/2024/01/24-Bible-College-Web-FINAL.jpg
END:VEVENT
BEGIN:VEVENT
DTSTART;TZID=Australia/Sydney:20240217T173000
DTEND;TZID=Australia/Sydney:20240217T210000
DTSTAMP:20260421T111619
CREATED:20240131T005505Z
LAST-MODIFIED:20240131T015844Z
UID:2536-1708191000-1708203600@c3carlingford.org.au
SUMMARY:LUNAR NEW YEAR POTLUCK DINNER
DESCRIPTION:It’s time to CELEBRATE together! Join us for Lunar New Year Potluck Dinner on Saturday 17th Februay 2024 from 5.30pm at the Ministry Centre (7 Loftus Rd Pennant Hills). Bring a dish of food to share\, and be ready for a great night of feasting and fun. Please register HERE.
URL:https://c3carlingford.org.au/event/lunar-new-year-potluck-dinner/
ATTACH;FMTTYPE=image/jpeg:https://c3carlingford.org.au/wp-content/uploads/2024/01/2402-Lunar-New-Year-Web.jpg
END:VEVENT
END:VCALENDAR