BEGIN:VCALENDAR
VERSION:2.0
PRODID:-//C3 Church Carlingford - ECPv6.15.20//NONSGML v1.0//EN
CALSCALE:GREGORIAN
METHOD:PUBLISH
X-ORIGINAL-URL:https://c3carlingford.org.au
X-WR-CALDESC:Events for C3 Church Carlingford
REFRESH-INTERVAL;VALUE=DURATION:PT1H
X-Robots-Tag:noindex
X-PUBLISHED-TTL:PT1H
BEGIN:VTIMEZONE
TZID:Australia/Sydney
BEGIN:STANDARD
TZOFFSETFROM:+1100
TZOFFSETTO:+1000
TZNAME:AEST
DTSTART:20230401T160000
END:STANDARD
BEGIN:DAYLIGHT
TZOFFSETFROM:+1000
TZOFFSETTO:+1100
TZNAME:AEDT
DTSTART:20230930T160000
END:DAYLIGHT
BEGIN:STANDARD
TZOFFSETFROM:+1100
TZOFFSETTO:+1000
TZNAME:AEST
DTSTART:20240406T160000
END:STANDARD
BEGIN:DAYLIGHT
TZOFFSETFROM:+1000
TZOFFSETTO:+1100
TZNAME:AEDT
DTSTART:20241005T160000
END:DAYLIGHT
BEGIN:STANDARD
TZOFFSETFROM:+1100
TZOFFSETTO:+1000
TZNAME:AEST
DTSTART:20250405T160000
END:STANDARD
BEGIN:DAYLIGHT
TZOFFSETFROM:+1000
TZOFFSETTO:+1100
TZNAME:AEDT
DTSTART:20251004T160000
END:DAYLIGHT
END:VTIMEZONE
BEGIN:VEVENT
DTSTART;VALUE=DATE:20240512
DTEND;VALUE=DATE:20240513
DTSTAMP:20260423T055303
CREATED:20240505T225707Z
LAST-MODIFIED:20240505T225707Z
UID:3049-1715472000-1715558399@c3carlingford.org.au
SUMMARY:Mother's Day
DESCRIPTION:Mother’s Day is this Sunday! Across all our services\, we’re going to celebrate all the amazing women in our lives. \nIt is time to call your Mum and ask her to join you for an amazing service.
URL:https://c3carlingford.org.au/event/mothers-day/
LOCATION:Carlingford High School\, Australia
ATTACH;FMTTYPE=image/png:https://c3carlingford.org.au/wp-content/uploads/2024/05/Mothers-Day-4-by-3-slides-1.png
END:VEVENT
BEGIN:VEVENT
DTSTART;VALUE=DATE:20240519
DTEND;VALUE=DATE:20240520
DTSTAMP:20260423T055303
CREATED:20240505T225919Z
LAST-MODIFIED:20240505T225935Z
UID:3053-1716076800-1716163199@c3carlingford.org.au
SUMMARY:Pentecost - POWER TO LIVE
DESCRIPTION:Pentecost is the celebration of the coming of the Holy Spirit in power on the church. \nWe will be celebrating in our AM & PM services with services crafted for encounter with the Spirit to be refreshed\, refired and empowered. \nInvite your friends and family and come ready to encounter the Holy Spirit and His power to live!
URL:https://c3carlingford.org.au/event/pentecost-power-to-live/
LOCATION:Carlingford High School\, Australia
ATTACH;FMTTYPE=image/jpeg:https://c3carlingford.org.au/wp-content/uploads/2024/05/2403-Pentecost-Power-To-Live-WEB.jpg
END:VEVENT
END:VCALENDAR