BEGIN:VCALENDAR
VERSION:2.0
PRODID:-//C3 Church Carlingford - ECPv6.15.20//NONSGML v1.0//EN
CALSCALE:GREGORIAN
METHOD:PUBLISH
X-ORIGINAL-URL:https://c3carlingford.org.au
X-WR-CALDESC:Events for C3 Church Carlingford
REFRESH-INTERVAL;VALUE=DURATION:PT1H
X-Robots-Tag:noindex
X-PUBLISHED-TTL:PT1H
BEGIN:VTIMEZONE
TZID:Australia/Sydney
BEGIN:STANDARD
TZOFFSETFROM:+1100
TZOFFSETTO:+1000
TZNAME:AEST
DTSTART:20230401T160000
END:STANDARD
BEGIN:DAYLIGHT
TZOFFSETFROM:+1000
TZOFFSETTO:+1100
TZNAME:AEDT
DTSTART:20230930T160000
END:DAYLIGHT
BEGIN:STANDARD
TZOFFSETFROM:+1100
TZOFFSETTO:+1000
TZNAME:AEST
DTSTART:20240406T160000
END:STANDARD
BEGIN:DAYLIGHT
TZOFFSETFROM:+1000
TZOFFSETTO:+1100
TZNAME:AEDT
DTSTART:20241005T160000
END:DAYLIGHT
BEGIN:STANDARD
TZOFFSETFROM:+1100
TZOFFSETTO:+1000
TZNAME:AEST
DTSTART:20250405T160000
END:STANDARD
BEGIN:DAYLIGHT
TZOFFSETFROM:+1000
TZOFFSETTO:+1100
TZNAME:AEDT
DTSTART:20251004T160000
END:DAYLIGHT
END:VTIMEZONE
BEGIN:VEVENT
DTSTART;TZID=Australia/Sydney:20240723T193000
DTEND;TZID=Australia/Sydney:20240924T213000
DTSTAMP:20260420T194533
CREATED:20240623T221038Z
LAST-MODIFIED:20240624T033315Z
UID:3243-1721763000-1727213400@c3carlingford.org.au
SUMMARY:Steps To Freedom In Christ Course
DESCRIPTION:Becoming more like Christ is a lifelong venture but sometimes we can find ourselves “stuck”\, struggling to connect with the truth of who we are in Christ. The Steps to Freedom in Christ Course is specifically designed to help Christians take hold of their identity in Christ\, resolve personal and spiritual conflicts\, and learn strategies for renewing their mind to break free from patterns of negative thinking and behaviour. \nCome and join us on Tuesday evenings during term 3 at the Ministry Centre for this life-altering course! \nThe cost is $25 and you can register HERE.
URL:https://c3carlingford.org.au/event/steps-to-freedom-in-christ/
LOCATION:Ministry Centre\, 7 Loftus Road\, Pennant Hills\, NSW\, 2120\, Australia
ATTACH;FMTTYPE=image/png:https://c3carlingford.org.au/wp-content/uploads/2024/06/WEB.png
ORGANIZER;CN="Jen Irving":MAILTO:JIrving@c3carlingford.org.au
END:VEVENT
BEGIN:VEVENT
DTSTART;TZID=Australia/Sydney:20240725T193000
DTEND;TZID=Australia/Sydney:20240926T210000
DTSTAMP:20260420T194533
CREATED:20240624T030440Z
LAST-MODIFIED:20240630T233124Z
UID:3252-1721935800-1727384400@c3carlingford.org.au
SUMMARY:Circuit Breaker Course
DESCRIPTION:Have you ever lost your temper and said something you later regretted? \nAre you having conflicts that escalate quickly? \nThe Circuit Breaker course will help you! This 10 week course will teach you new tools to mend relationships\, resolve conflict and stop you blowing your fuse. \nStarts Thursday 25th July. Register here before Friday 19th July.
URL:https://c3carlingford.org.au/event/circuit-breaker-course/
ATTACH;FMTTYPE=image/png:https://c3carlingford.org.au/wp-content/uploads/2024/06/2307-Circuit-Breaker-Web-copy.png
END:VEVENT
BEGIN:VEVENT
DTSTART;TZID=Australia/Sydney:20240803T133000
DTEND;TZID=Australia/Sydney:20240803T190000
DTSTAMP:20260420T194533
CREATED:20240630T233459Z
LAST-MODIFIED:20240729T042806Z
UID:3320-1722691800-1722711600@c3carlingford.org.au
SUMMARY:Flourish | Women's Event
DESCRIPTION:Our annual women’s event\, Flourish\, is coming up on Saturday 3rd August for all women 15+! \nThe theme for this year is ‘Restored’\, and it will be an afternoon of encouragement and refreshment from being in God’s presence and hearing His Word. \nWe’ll also have the space to connect with one another and share afternoon tea and an early dinner together. \nRegister today\, invite a friend\, and we look forward to seeing you there! \nRegister here.
URL:https://c3carlingford.org.au/event/flourish/
ATTACH;FMTTYPE=image/jpeg:https://c3carlingford.org.au/wp-content/uploads/2024/07/2408-Flourish-Web.jpg
ORGANIZER;CN="Laura Samperi":MAILTO:info@c3carlingford.org.au
END:VEVENT
BEGIN:VEVENT
DTSTART;VALUE=DATE:20240818
DTEND;VALUE=DATE:20240819
DTSTAMP:20260420T194533
CREATED:20240804T230555Z
LAST-MODIFIED:20240804T230555Z
UID:3506-1723939200-1724025599@c3carlingford.org.au
SUMMARY:Guest Speaker | Pastor John Finkelde
DESCRIPTION:Ps. John Finkelde will be preaching for us in our services on Sunday 18th August. \nPs John is our Church Overseer\, leads the church consultancy ‘Grow a Healthy Church’ and has been coming to us each year for over fifteen years. He always brings a word from God to encourage us as a church\, so plan to be in a service on Sunday 18th August.
URL:https://c3carlingford.org.au/event/guest-speaker-pastor-john-finkelde/
LOCATION:Carlingford High School\, Australia
ATTACH;FMTTYPE=image/jpeg:https://c3carlingford.org.au/wp-content/uploads/2024/08/7efd6fbf-6ab7-aa72-0b9d-33892f6b9f33.jpg
END:VEVENT
BEGIN:VEVENT
DTSTART;TZID=Australia/Sydney:20240825T093000
DTEND;TZID=Australia/Sydney:20240825T140000
DTSTAMP:20260420T194533
CREATED:20240729T000737Z
LAST-MODIFIED:20240729T052659Z
UID:3434-1724578200-1724594400@c3carlingford.org.au
SUMMARY:30th Anniversary Service and Celebration
DESCRIPTION:We are celebrating 30 years as a church. This is a hugely significant milestone\, and we want to join with you to share our thankfulness to God for what he has done!\nWe can’t wait to celebrate with you! \nFor more information\, please click here.
URL:https://c3carlingford.org.au/event/30th-anniversary-service-and-celebration/
LOCATION:Carlingford High School\, Australia
ATTACH;FMTTYPE=image/jpeg:https://c3carlingford.org.au/wp-content/uploads/2024/07/Eras-3-Draft.jpg
END:VEVENT
END:VCALENDAR