BEGIN:VCALENDAR
VERSION:2.0
PRODID:-//C3 Church Carlingford - ECPv6.15.20//NONSGML v1.0//EN
CALSCALE:GREGORIAN
METHOD:PUBLISH
X-ORIGINAL-URL:https://c3carlingford.org.au
X-WR-CALDESC:Events for C3 Church Carlingford
REFRESH-INTERVAL;VALUE=DURATION:PT1H
X-Robots-Tag:noindex
X-PUBLISHED-TTL:PT1H
BEGIN:VTIMEZONE
TZID:Australia/Sydney
BEGIN:STANDARD
TZOFFSETFROM:+1100
TZOFFSETTO:+1000
TZNAME:AEST
DTSTART:20230401T160000
END:STANDARD
BEGIN:DAYLIGHT
TZOFFSETFROM:+1000
TZOFFSETTO:+1100
TZNAME:AEDT
DTSTART:20230930T160000
END:DAYLIGHT
BEGIN:STANDARD
TZOFFSETFROM:+1100
TZOFFSETTO:+1000
TZNAME:AEST
DTSTART:20240406T160000
END:STANDARD
BEGIN:DAYLIGHT
TZOFFSETFROM:+1000
TZOFFSETTO:+1100
TZNAME:AEDT
DTSTART:20241005T160000
END:DAYLIGHT
BEGIN:STANDARD
TZOFFSETFROM:+1100
TZOFFSETTO:+1000
TZNAME:AEST
DTSTART:20250405T160000
END:STANDARD
BEGIN:DAYLIGHT
TZOFFSETFROM:+1000
TZOFFSETTO:+1100
TZNAME:AEDT
DTSTART:20251004T160000
END:DAYLIGHT
END:VTIMEZONE
BEGIN:VEVENT
DTSTART;TZID=Australia/Sydney:20241101T080000
DTEND;TZID=Australia/Sydney:20241201T170000
DTSTAMP:20260421T103106
CREATED:20241028T040852Z
LAST-MODIFIED:20241028T040852Z
UID:3805-1730448000-1733072400@c3carlingford.org.au
SUMMARY:Christmas Hamper Collection
DESCRIPTION:We are putting together Christmas Hampers for those in our community who are in financial difficulty. These hampers will help us to reach out this Christmas and bring joy to many individuals and families. \nTo take part\, all you need to do is bring specialty Christmas food (that does not require refrigeration) and place in the box at church\, during the month of November. \nExamples of items you could contribute include: Christmas cake\, fruit mince pies\, cookies\, chocolate\, lollies\, chips\, crackers\, bonbons\, serviettes. Thankyou for joining us in reaching out to those around us!!
URL:https://c3carlingford.org.au/event/christmas-hamper-collection/
LOCATION:Carlingford High School\, Australia
ATTACH;FMTTYPE=image/jpeg:https://c3carlingford.org.au/wp-content/uploads/2024/10/CH-HAMPERS.jpg
ORGANIZER;CN="Zoe Stewart":MAILTO:zstewart@c3carlingford.org.au
END:VEVENT
BEGIN:VEVENT
DTSTART;VALUE=DATE:20241105
DTEND;VALUE=DATE:20241218
DTSTAMP:20260421T103106
CREATED:20241014T032557Z
LAST-MODIFIED:20241014T032557Z
UID:3709-1730764800-1734479999@c3carlingford.org.au
SUMMARY:ALPHA Course
DESCRIPTION:This November & December we are excited to be running the Alpha Course in English with Farsi subtitles. This is a great opportunity for English and Farsi speakers to explore life\, faith and meaning together. If you have never done an Alpha Course\, then this is a chance to go deeper to finish the year – and if you have why not invite a friend to do Alpha with you? This could be life changing! \nThe course will commence on the 5th of November and run each week for 7 weeks\, at 7:30pm – 9pm. We will meet in person at the C3 Church Carlingford Ministry Centre – 7 Loftus Road Pennant Hills\, and also online via Zoom. \nLet us know you are interested by registering here.
URL:https://c3carlingford.org.au/event/alpha-course/
LOCATION:Ministry Centre and Online\, Australia
ATTACH;FMTTYPE=image/jpeg:https://c3carlingford.org.au/wp-content/uploads/2024/01/2402-Farsi-Alpha-Web.jpg
END:VEVENT
BEGIN:VEVENT
DTSTART;TZID=Australia/Sydney:20241207T100000
DTEND;TZID=Australia/Sydney:20241207T113000
DTSTAMP:20260421T103106
CREATED:20241111T020508Z
LAST-MODIFIED:20241125T040649Z
UID:3864-1733565600-1733571000@c3carlingford.org.au
SUMMARY:Christmas Tea@10 | Women's Event
DESCRIPTION:Join us for our final women’s’ event of 2024 – Christmas Tea@10! \nThis is an ALL-IN event for Women aged 15 and over from every part of our church. \nIt will be held on Saturday 7th Dec at Laura Samperi’s house (address given upon registration). \nPlease bring a plate of Christmas themed morning tea to share! Invite a friend to join us as we celebrate! \nRegister here. \nLooking forward to seeing you there!
URL:https://c3carlingford.org.au/event/christmas-tea10-womens-event/
ATTACH;FMTTYPE=image/jpeg:https://c3carlingford.org.au/wp-content/uploads/2024/11/tez10.jpg
ORGANIZER;CN="Laura Samperi":MAILTO:info@c3carlingford.org.au
END:VEVENT
BEGIN:VEVENT
DTSTART;TZID=Australia/Sydney:20241213T191500
DTEND;TZID=Australia/Sydney:20241213T210000
DTSTAMP:20260421T103106
CREATED:20241111T021417Z
LAST-MODIFIED:20241111T021417Z
UID:3868-1734117300-1734123600@c3carlingford.org.au
SUMMARY:North Epping Christmas Carols
DESCRIPTION:This year we will be joining other Churches in our area for the North Epping Carols on Friday the 13th of December. \nCarol singing begins at 7:15pm with fireworks at 9:00pm. There will be food\, drinks and glowsticks available for sale. \nFor more information please visit northeppingcarols.com.
URL:https://c3carlingford.org.au/event/north-epping-christmas-carols/
LOCATION:Epping Oval\, 68 Norfolk Road\, Epping\, NSW\, 2121\, Australia
ATTACH;FMTTYPE=image/jpeg:https://c3carlingford.org.au/wp-content/uploads/2024/11/Carols-2024_General.jpg
END:VEVENT
BEGIN:VEVENT
DTSTART;TZID=Australia/Sydney:20241214T140000
DTEND;TZID=Australia/Sydney:20241214T170000
DTSTAMP:20260421T103106
CREATED:20241125T041017Z
LAST-MODIFIED:20241125T053057Z
UID:3917-1734184800-1734195600@c3carlingford.org.au
SUMMARY:YAPP | Young Adults Pool Party
DESCRIPTION:It’s hot! It’s Summer\, it’s nearly Christmas. \nWhat time is it? It’s YAPP time – Young Adults Pool Party\, our final 2024 Young Adults Social event. The perfect way to celebrate in the lead up to Christmas. We would love to have you join us for a fun afternoon over at Pastor Tim’s house. \nBring your swimmers & a snack and invite your Young Adult friends and come hang out with us one more time in 2024. \nEmail Pastor Andie for more details.
URL:https://c3carlingford.org.au/event/yapp-young-adults-pool-party/
ATTACH;FMTTYPE=image/png:https://c3carlingford.org.au/wp-content/uploads/2024/11/YAPP-EXAMPLE.png
ORGANIZER;CN="Andrea Molteno":MAILTO:amolteno@c3carlingford.org.au
END:VEVENT
BEGIN:VEVENT
DTSTART;TZID=Australia/Sydney:20241215T173000
DTEND;TZID=Australia/Sydney:20241215T200000
DTSTAMP:20260421T103106
CREATED:20241202T014224Z
LAST-MODIFIED:20241202T044106Z
UID:3923-1734283800-1734292800@c3carlingford.org.au
SUMMARY:Carols in the Hall
DESCRIPTION:Christmas is upon us\, which is a great opportunity to spend time with friends & family and sing Christmas carols together. Our Carols in the Hall service on Sunday 15 December will be a cozy evening of caroling. Bring along your picnic rugs or chairs and a friend or two to enjoy the night. See you there! 🎶
URL:https://c3carlingford.org.au/event/carols-in-the-hall/
LOCATION:Carlingford High School\, Australia
ATTACH;FMTTYPE=image/png:https://c3carlingford.org.au/wp-content/uploads/2024/12/Carols-In-The-HALL.png
END:VEVENT
BEGIN:VEVENT
DTSTART;TZID=Australia/Sydney:20241224T230000
DTEND;TZID=Australia/Sydney:20241224T230000
DTSTAMP:20260421T103106
CREATED:20241202T014353Z
LAST-MODIFIED:20241202T044150Z
UID:3927-1735081200-1735081200@c3carlingford.org.au
SUMMARY:Christmas Eve Service
DESCRIPTION:There is so much to wonder at Christmas. The story of the birth of our savior is remarkable and leaves us full of awe. \nJoin with us for a special service on Christmas Eve as we come together at 11:00pm to prepare for Christmas day together.
URL:https://c3carlingford.org.au/event/christmas-eve-service/
LOCATION:Carlingford High School\, Australia
ATTACH;FMTTYPE=image/png:https://c3carlingford.org.au/wp-content/uploads/2024/12/WONDER.png
END:VEVENT
BEGIN:VEVENT
DTSTART;TZID=Australia/Sydney:20241225T093000
DTEND;TZID=Australia/Sydney:20241225T103000
DTSTAMP:20260421T103106
CREATED:20241202T014442Z
LAST-MODIFIED:20241202T045613Z
UID:3931-1735119000-1735122600@c3carlingford.org.au
SUMMARY:Christmas Day Service
DESCRIPTION:There is so much to wonder at Christmas. The story of the birth of our savior is remarkable and leaves us full of awe. \nYou are invited to join with us for a special services on Christmas Day as we wonder at the majesty of Jesus.
URL:https://c3carlingford.org.au/event/christmas-day-service/
LOCATION:Carlingford High School\, Australia
ATTACH;FMTTYPE=image/png:https://c3carlingford.org.au/wp-content/uploads/2024/12/WONDER.png
END:VEVENT
END:VCALENDAR