BEGIN:VCALENDAR
VERSION:2.0
PRODID:-//C3 Church Carlingford - ECPv6.15.20//NONSGML v1.0//EN
CALSCALE:GREGORIAN
METHOD:PUBLISH
X-WR-CALNAME:C3 Church Carlingford
X-ORIGINAL-URL:https://c3carlingford.org.au
X-WR-CALDESC:Events for C3 Church Carlingford
REFRESH-INTERVAL;VALUE=DURATION:PT1H
X-Robots-Tag:noindex
X-PUBLISHED-TTL:PT1H
BEGIN:VTIMEZONE
TZID:Australia/Sydney
BEGIN:STANDARD
TZOFFSETFROM:+1100
TZOFFSETTO:+1000
TZNAME:AEST
DTSTART:20240406T160000
END:STANDARD
BEGIN:DAYLIGHT
TZOFFSETFROM:+1000
TZOFFSETTO:+1100
TZNAME:AEDT
DTSTART:20241005T160000
END:DAYLIGHT
BEGIN:STANDARD
TZOFFSETFROM:+1100
TZOFFSETTO:+1000
TZNAME:AEST
DTSTART:20250405T160000
END:STANDARD
BEGIN:DAYLIGHT
TZOFFSETFROM:+1000
TZOFFSETTO:+1100
TZNAME:AEDT
DTSTART:20251004T160000
END:DAYLIGHT
BEGIN:STANDARD
TZOFFSETFROM:+1100
TZOFFSETTO:+1000
TZNAME:AEST
DTSTART:20260404T160000
END:STANDARD
BEGIN:DAYLIGHT
TZOFFSETFROM:+1000
TZOFFSETTO:+1100
TZNAME:AEDT
DTSTART:20261003T160000
END:DAYLIGHT
END:VTIMEZONE
BEGIN:VEVENT
DTSTART;TZID=Australia/Sydney:20250711T180000
DTEND;TZID=Australia/Sydney:20250713T120000
DTSTAMP:20260419T171152
CREATED:20250526T062616Z
LAST-MODIFIED:20250526T092245Z
UID:4594-1752256800-1752408000@c3carlingford.org.au
SUMMARY:YAWT - Young Adults Weekend Trip
DESCRIPTION:Young Adults aged 17 to 30-something\, pack your bags! You won’t want to miss our Young Adults Weekend Trip 2025! \nThis year’s theme is ‘Set Apart’\, we’re exploring how God has called us to be set apart\, and what our lives have been set apart for. \nRego’s close Sunday 22 June – register today!
URL:https://c3carlingford.org.au/event/yawt-young-adults-weekend-trip/
ATTACH;FMTTYPE=image/jpeg:https://c3carlingford.org.au/wp-content/uploads/2025/05/2507-YAWT-Web.jpg
END:VEVENT
BEGIN:VEVENT
DTSTART;TZID=Australia/Sydney:20250722T193000
DTEND;TZID=Australia/Sydney:20250722T213000
DTSTAMP:20260419T171153
CREATED:20250616T065657Z
LAST-MODIFIED:20250616T065657Z
UID:4658-1753212600-1753219800@c3carlingford.org.au
SUMMARY:Steps to Freedom in Christ
DESCRIPTION:Do you want to become more like Christ? Are there areas of your life where you feel like you keep failing or letting yourself or others down? Do you sometimes feel held back by your past or by your habits? \nBecoming more like Christ is a lifelong venture but sometimes we can find ourselves “stuck”\, struggling to connect with the truth of who we are in Christ. And yet\, Jesus enables us to live in freedom\, and He wants us to flourish! \nThe Steps to Freedom in Christ Course is specifically designed to help Christians take hold of their identity in Christ\, resolve personal and spiritual conflicts\, and learn strategies for renewing their mind to break free from patterns of negative thinking and behaviour. Come and be transformed through this life-altering course!
URL:https://c3carlingford.org.au/event/steps-to-freedom-in-christ-2/
LOCATION:Ministry Centre\, 7 Loftus Road\, Pennant Hills\, NSW\, 2120\, Australia
ATTACH;FMTTYPE=image/png:https://c3carlingford.org.au/wp-content/uploads/2025/06/unnamed-1.png
ORGANIZER;CN="Jen Irving":MAILTO:JIrving@c3carlingford.org.au
END:VEVENT
END:VCALENDAR