BEGIN:VCALENDAR
VERSION:2.0
PRODID:-//C3 Church Carlingford - ECPv6.15.20//NONSGML v1.0//EN
CALSCALE:GREGORIAN
METHOD:PUBLISH
X-WR-CALNAME:C3 Church Carlingford
X-ORIGINAL-URL:https://c3carlingford.org.au
X-WR-CALDESC:Events for C3 Church Carlingford
REFRESH-INTERVAL;VALUE=DURATION:PT1H
X-Robots-Tag:noindex
X-PUBLISHED-TTL:PT1H
BEGIN:VTIMEZONE
TZID:Australia/Sydney
BEGIN:STANDARD
TZOFFSETFROM:+1100
TZOFFSETTO:+1000
TZNAME:AEST
DTSTART:20240406T160000
END:STANDARD
BEGIN:DAYLIGHT
TZOFFSETFROM:+1000
TZOFFSETTO:+1100
TZNAME:AEDT
DTSTART:20241005T160000
END:DAYLIGHT
BEGIN:STANDARD
TZOFFSETFROM:+1100
TZOFFSETTO:+1000
TZNAME:AEST
DTSTART:20250405T160000
END:STANDARD
BEGIN:DAYLIGHT
TZOFFSETFROM:+1000
TZOFFSETTO:+1100
TZNAME:AEDT
DTSTART:20251004T160000
END:DAYLIGHT
BEGIN:STANDARD
TZOFFSETFROM:+1100
TZOFFSETTO:+1000
TZNAME:AEST
DTSTART:20260404T160000
END:STANDARD
BEGIN:DAYLIGHT
TZOFFSETFROM:+1000
TZOFFSETTO:+1100
TZNAME:AEDT
DTSTART:20261003T160000
END:DAYLIGHT
END:VTIMEZONE
BEGIN:VEVENT
DTSTART;TZID=Australia/Sydney:20250802T133000
DTEND;TZID=Australia/Sydney:20250802T193000
DTSTAMP:20260419T171202
CREATED:20250614T222210Z
LAST-MODIFIED:20250614T222210Z
UID:4649-1754141400-1754163000@c3carlingford.org.au
SUMMARY:Flourish Women's Event
DESCRIPTION:Flourish is our annual event for women aged 15+\, and this year we have the privilege of guest speaker\, Katie Haldane joining us! The theme is “A Light to My Path”\, with the focus of being in the Word of God no matter what life brings. Flourish is always a beautiful opportunity to be encouraged\, share afternoon tea and a light dinner together\, and grow deeper in our faith walks.
URL:https://c3carlingford.org.au/event/flourish-womens-event/
LOCATION:Carlingford High School\, Australia
ATTACH;FMTTYPE=image/jpeg:https://c3carlingford.org.au/wp-content/uploads/2024/07/2408-Flourish-Web.jpg
ORGANIZER;CN="Laura Samperi":MAILTO:info@c3carlingford.org.au
END:VEVENT
BEGIN:VEVENT
DTSTART;TZID=Australia/Sydney:20250815T180000
DTEND;TZID=Australia/Sydney:20250817T080000
DTSTAMP:20260419T171202
CREATED:20250618T051308Z
LAST-MODIFIED:20250618T051330Z
UID:4671-1755280800-1755417600@c3carlingford.org.au
SUMMARY:The Forge Men's Retreat
DESCRIPTION:The Forge – Men’s Retreat\nRegistrations Open | Earlybird discount\nOur annual men’s retreat – The Forge will be focussed around the theme of GROWTH. It will be an incredible time of discipleship and growth for the men in our community. This year\, it will be held at Camp Kedron from 15-17 August \nRegistration for this event is now open and there is a 5% early bird discount if you register before June 30
URL:https://c3carlingford.org.au/event/4671/
LOCATION:Camp Kedron\, 7 Emmaus Rd\, Ingleside\, NSW\, 2101\, Australia
ATTACH;FMTTYPE=image/png:https://c3carlingford.org.au/wp-content/uploads/2025/06/Forge-Mens-Retreat-1.png
ORGANIZER;CN="Justin Ware":MAILTO:jware@c3carlingford.org.au
END:VEVENT
END:VCALENDAR