BEGIN:VCALENDAR
VERSION:2.0
PRODID:-//C3 Church Carlingford - ECPv6.15.20//NONSGML v1.0//EN
CALSCALE:GREGORIAN
METHOD:PUBLISH
X-WR-CALNAME:C3 Church Carlingford
X-ORIGINAL-URL:https://c3carlingford.org.au
X-WR-CALDESC:Events for C3 Church Carlingford
REFRESH-INTERVAL;VALUE=DURATION:PT1H
X-Robots-Tag:noindex
X-PUBLISHED-TTL:PT1H
BEGIN:VTIMEZONE
TZID:Australia/Sydney
BEGIN:STANDARD
TZOFFSETFROM:+1100
TZOFFSETTO:+1000
TZNAME:AEST
DTSTART:20240406T160000
END:STANDARD
BEGIN:DAYLIGHT
TZOFFSETFROM:+1000
TZOFFSETTO:+1100
TZNAME:AEDT
DTSTART:20241005T160000
END:DAYLIGHT
BEGIN:STANDARD
TZOFFSETFROM:+1100
TZOFFSETTO:+1000
TZNAME:AEST
DTSTART:20250405T160000
END:STANDARD
BEGIN:DAYLIGHT
TZOFFSETFROM:+1000
TZOFFSETTO:+1100
TZNAME:AEDT
DTSTART:20251004T160000
END:DAYLIGHT
BEGIN:STANDARD
TZOFFSETFROM:+1100
TZOFFSETTO:+1000
TZNAME:AEST
DTSTART:20260404T160000
END:STANDARD
BEGIN:DAYLIGHT
TZOFFSETFROM:+1000
TZOFFSETTO:+1100
TZNAME:AEDT
DTSTART:20261003T160000
END:DAYLIGHT
END:VTIMEZONE
BEGIN:VEVENT
DTSTART;TZID=Australia/Sydney:20250921T123000
DTEND;TZID=Australia/Sydney:20250921T123000
DTSTAMP:20260419T171212
CREATED:20250701T005124Z
LAST-MODIFIED:20250908T232526Z
UID:4711-1758457800-1758457800@c3carlingford.org.au
SUMMARY:Welcome Lunch
DESCRIPTION:Our Welcome Lunches are designed for people who are new to church! \nCome and meet some of our pastors and key leaders over a relaxed lunch on Sunday 21st September at our Ministry Centre at 7 Loftus Road\, Pennant Hills. You will have the opportunity to ask questions and find out all about our church. \nLunch will start promptly at 12:30pm and is free but we do need RSVPs for catering purposes by Tuesday 16th September. \nIf you need childcare or have specific dietary requirements\, please let us know! Book your free spot HERE.
URL:https://c3carlingford.org.au/event/welcome-lunch-4/
LOCATION:Ministry Centre\, 7 Loftus Road\, Pennant Hills\, NSW\, 2120\, Australia
ATTACH;FMTTYPE=image/jpeg:https://c3carlingford.org.au/wp-content/uploads/2024/06/24-WL_web_details.jpg
ORGANIZER;CN="Jen Irving":MAILTO:JIrving@c3carlingford.org.au
END:VEVENT
BEGIN:VEVENT
DTSTART;TZID=Australia/Sydney:20250930T090000
DTEND;TZID=Australia/Sydney:20251003T163000
DTSTAMP:20260419T171212
CREATED:20250909T004644Z
LAST-MODIFIED:20250909T004644Z
UID:4794-1759222800-1759509000@c3carlingford.org.au
SUMMARY:Study Camp 2025
DESCRIPTION:We’re running a study camp for our Year 12s to help them prepare for their HSCs! \nTaking time to focus on God during the HSC is really beneficial to remind our young people that He has everything under control and is with us every step of the way. There is also a lot of power in gathering together to study with friends in an environment with minimal distractions and maximum structure\, supervision and assistance from teachers and experts in the areas that our young people study. \nHere are the details:\nDates: 30th of September to 3rd of October\nTime: 9am-4:30pm\nLocation: Ministry Centre (7 Loftus Road\, Pennant Hills)\nCost: $100 ($25 per day) \nClick HERE to sign up
URL:https://c3carlingford.org.au/event/study-camp-2025/
LOCATION:Ministry Centre\, 7 Loftus Road\, Pennant Hills\, NSW\, 2120\, Australia
ATTACH;FMTTYPE=image/png:https://c3carlingford.org.au/wp-content/uploads/2025/09/Study-Camp.png
ORGANIZER;CN="Tim Cornell":MAILTO:tcornell@c3carlingford.org.au
END:VEVENT
END:VCALENDAR