BEGIN:VCALENDAR
VERSION:2.0
PRODID:-//C3 Church Carlingford - ECPv6.15.20//NONSGML v1.0//EN
CALSCALE:GREGORIAN
METHOD:PUBLISH
X-WR-CALNAME:C3 Church Carlingford
X-ORIGINAL-URL:https://c3carlingford.org.au
X-WR-CALDESC:Events for C3 Church Carlingford
REFRESH-INTERVAL;VALUE=DURATION:PT1H
X-Robots-Tag:noindex
X-PUBLISHED-TTL:PT1H
BEGIN:VTIMEZONE
TZID:Australia/Sydney
BEGIN:STANDARD
TZOFFSETFROM:+1100
TZOFFSETTO:+1000
TZNAME:AEST
DTSTART:20240406T160000
END:STANDARD
BEGIN:DAYLIGHT
TZOFFSETFROM:+1000
TZOFFSETTO:+1100
TZNAME:AEDT
DTSTART:20241005T160000
END:DAYLIGHT
BEGIN:STANDARD
TZOFFSETFROM:+1100
TZOFFSETTO:+1000
TZNAME:AEST
DTSTART:20250405T160000
END:STANDARD
BEGIN:DAYLIGHT
TZOFFSETFROM:+1000
TZOFFSETTO:+1100
TZNAME:AEDT
DTSTART:20251004T160000
END:DAYLIGHT
BEGIN:STANDARD
TZOFFSETFROM:+1100
TZOFFSETTO:+1000
TZNAME:AEST
DTSTART:20260404T160000
END:STANDARD
BEGIN:DAYLIGHT
TZOFFSETFROM:+1000
TZOFFSETTO:+1100
TZNAME:AEDT
DTSTART:20261003T160000
END:DAYLIGHT
BEGIN:STANDARD
TZOFFSETFROM:+1100
TZOFFSETTO:+1000
TZNAME:AEST
DTSTART:20270403T160000
END:STANDARD
BEGIN:DAYLIGHT
TZOFFSETFROM:+1000
TZOFFSETTO:+1100
TZNAME:AEDT
DTSTART:20271002T160000
END:DAYLIGHT
END:VTIMEZONE
BEGIN:VEVENT
DTSTART;TZID=Australia/Sydney:20251101T000000
DTEND;TZID=Australia/Sydney:20251201T235900
DTSTAMP:20260419T171243
CREATED:20251124T232716Z
LAST-MODIFIED:20251124T233523Z
UID:4886-1761955200-1764633540@c3carlingford.org.au
SUMMARY:2026 Internship Program
DESCRIPTION:Do you have a heart to serve God and the Church\, while developing your skills in leadership and ministry? Whether you are fresh out of school\, freshly retired or somewhere in between\, the C3 Carlingford and Wentworthville Intern Program is your chance to stretch into what God has for you in 2026. \nClick HERE for information about the intern program and click HERE for the expression of interest form. Don’t forget to get your expressions of interest in by midnight on Monday 1st of December!
URL:https://c3carlingford.org.au/event/2026-internship-program/
ATTACH;FMTTYPE=image/jpeg:https://c3carlingford.org.au/wp-content/uploads/2025/11/2511-Internship-Program-Web.jpeg
END:VEVENT
BEGIN:VEVENT
DTSTART;TZID=Australia/Sydney:20251203T200000
DTEND;TZID=Australia/Sydney:20251203T210000
DTSTAMP:20260419T171243
CREATED:20251124T233312Z
LAST-MODIFIED:20251124T233312Z
UID:4889-1764792000-1764795600@c3carlingford.org.au
SUMMARY:December Prayer Gathering
DESCRIPTION:Prayer is one of the foundational things we do as followers of Jesus. Prayer with others changes the world and activates our faith. Our next prayer gathering is on Wednesday 3rd of December at 8pm at the Ministry Centre (7 Loftus Road\, Pennant Hills) or via ZOOM. \nThe details to join the zoom can be found in our weekly Church email!
URL:https://c3carlingford.org.au/event/december-prayer-gathering/
LOCATION:Ministry Centre and Online\, Australia
ATTACH;FMTTYPE=image/jpeg:https://c3carlingford.org.au/wp-content/uploads/2024/12/25-Prayer-Web.jpg
ORGANIZER;CN="Rob Waugh":MAILTO:rwaugh@c3carlingford.org.au
END:VEVENT
BEGIN:VEVENT
DTSTART;TZID=Australia/Sydney:20251206T100000
DTEND;TZID=Australia/Sydney:20251206T113000
DTSTAMP:20260419T171243
CREATED:20251124T231959Z
LAST-MODIFIED:20251124T232122Z
UID:4882-1765015200-1765020600@c3carlingford.org.au
SUMMARY:Christmas Tea @ 10
DESCRIPTION:Christmas Tea @ 10 is our final women’s event of the year\, and it’s coming up on Saturday 6th Dec at 10AM. It’s a great opportunity to connect over tea/coffee and a Christmas-themed morning tea with the women of our church. Why not invite a friend\, register today and we look forward to seeing you there! \nClick HERE to register by Monday 1st of December.
URL:https://c3carlingford.org.au/event/christmas-tea-10/
ATTACH;FMTTYPE=image/jpeg:https://c3carlingford.org.au/wp-content/uploads/2025/11/Christmas-Tea-@-10.jpeg
ORGANIZER;CN="Laura Samperi":MAILTO:info@c3carlingford.org.au
END:VEVENT
BEGIN:VEVENT
DTSTART;TZID=Australia/Sydney:20251207T173000
DTEND;TZID=Australia/Sydney:20251207T200000
DTSTAMP:20260419T171243
CREATED:20251117T211505Z
LAST-MODIFIED:20251117T211530Z
UID:4841-1765128600-1765137600@c3carlingford.org.au
SUMMARY:Carols in the Hall
DESCRIPTION:The Christmas season is upon us\, and is a great opportunity to spend time with friends and family and sing Christmas carols together. Well guess what? You will have an opportunity to do both at our Carols in the Hall service on Sunday 7th December! \nDuring our 5:30 PM service we will be having a cozy evening of carolling. Bring along your picnic rugs or chairs and maybe a friend or two to enjoy the night. See you there! 🎶
URL:https://c3carlingford.org.au/event/carols-in-the-hall-2/
ATTACH;FMTTYPE=image/jpeg:https://c3carlingford.org.au/wp-content/uploads/2025/11/image.jpeg
END:VEVENT
BEGIN:VEVENT
DTSTART;TZID=Australia/Sydney:20251225T093000
DTEND;TZID=Australia/Sydney:20251225T103000
DTSTAMP:20260419T171243
CREATED:20251201T232930Z
LAST-MODIFIED:20251201T232930Z
UID:4893-1766655000-1766658600@c3carlingford.org.au
SUMMARY:Christmas Services 2025
DESCRIPTION:In a world of mess\, that’s sometimes full of mayhem\, can hope really remain? Yes—gloriously yes—in Jesus! This Christmas\, let’s rediscover the moment that changed history—when lasting hope entered the world in a humble Bethlehem manger. \nLet’s mark 2025 with this celebration: Hope remains\, no matter what. Who in your world needs this good news? Invite them along to one of our Christmas Services this year. \nChristmas Eve: 11pm – 12am \nChristmas Day: 9:30am – 10:30am
URL:https://c3carlingford.org.au/event/christmas-services-2025/
LOCATION:Carlingford High School\, Australia
ATTACH;FMTTYPE=image/jpeg:https://c3carlingford.org.au/wp-content/uploads/2025/12/2512-Hope-Remains-Web-C.jpg
END:VEVENT
BEGIN:VEVENT
DTSTART;VALUE=DATE:20251229
DTEND;VALUE=DATE:20260103
DTSTAMP:20260419T171243
CREATED:20251201T234150Z
LAST-MODIFIED:20251201T234150Z
UID:4896-1766966400-1767398399@c3carlingford.org.au
SUMMARY:Office Shutdown
DESCRIPTION:Our church office will be closed over the Christmas – New Year break. If you have any issues or concerns during this time please contact your connect group leader. \nIf you are unable to get in touch with them\, please contact the church office on 9875 0300 and leave a message. One of the pastoral team will be checking messages.
URL:https://c3carlingford.org.au/event/office-shutdown/
ATTACH;FMTTYPE=image/jpeg:https://c3carlingford.org.au/wp-content/uploads/2025/12/Office-Shutdown-Generic.jpg
END:VEVENT
END:VCALENDAR