BEGIN:VCALENDAR
VERSION:2.0
PRODID:-//C3 Church Carlingford - ECPv6.15.20//NONSGML v1.0//EN
CALSCALE:GREGORIAN
METHOD:PUBLISH
X-ORIGINAL-URL:https://c3carlingford.org.au
X-WR-CALDESC:Events for C3 Church Carlingford
REFRESH-INTERVAL;VALUE=DURATION:PT1H
X-Robots-Tag:noindex
X-PUBLISHED-TTL:PT1H
BEGIN:VTIMEZONE
TZID:Australia/Sydney
BEGIN:STANDARD
TZOFFSETFROM:+1100
TZOFFSETTO:+1000
TZNAME:AEST
DTSTART:20240406T160000
END:STANDARD
BEGIN:DAYLIGHT
TZOFFSETFROM:+1000
TZOFFSETTO:+1100
TZNAME:AEDT
DTSTART:20241005T160000
END:DAYLIGHT
BEGIN:STANDARD
TZOFFSETFROM:+1100
TZOFFSETTO:+1000
TZNAME:AEST
DTSTART:20250405T160000
END:STANDARD
BEGIN:DAYLIGHT
TZOFFSETFROM:+1000
TZOFFSETTO:+1100
TZNAME:AEDT
DTSTART:20251004T160000
END:DAYLIGHT
BEGIN:STANDARD
TZOFFSETFROM:+1100
TZOFFSETTO:+1000
TZNAME:AEST
DTSTART:20260404T160000
END:STANDARD
BEGIN:DAYLIGHT
TZOFFSETFROM:+1000
TZOFFSETTO:+1100
TZNAME:AEDT
DTSTART:20261003T160000
END:DAYLIGHT
BEGIN:STANDARD
TZOFFSETFROM:+1100
TZOFFSETTO:+1000
TZNAME:AEST
DTSTART:20270403T160000
END:STANDARD
BEGIN:DAYLIGHT
TZOFFSETFROM:+1000
TZOFFSETTO:+1100
TZNAME:AEDT
DTSTART:20271002T160000
END:DAYLIGHT
END:VTIMEZONE
BEGIN:VEVENT
DTSTART;VALUE=DATE:20251229
DTEND;VALUE=DATE:20260103
DTSTAMP:20260421T124636
CREATED:20251201T234150Z
LAST-MODIFIED:20251201T234150Z
UID:4896-1766966400-1767398399@c3carlingford.org.au
SUMMARY:Office Shutdown
DESCRIPTION:Our church office will be closed over the Christmas – New Year break. If you have any issues or concerns during this time please contact your connect group leader. \nIf you are unable to get in touch with them\, please contact the church office on 9875 0300 and leave a message. One of the pastoral team will be checking messages.
URL:https://c3carlingford.org.au/event/office-shutdown/
ATTACH;FMTTYPE=image/jpeg:https://c3carlingford.org.au/wp-content/uploads/2025/12/Office-Shutdown-Generic.jpg
END:VEVENT
BEGIN:VEVENT
DTSTART;TZID=Australia/Sydney:20260118T173000
DTEND;TZID=Australia/Sydney:20260118T190000
DTSTAMP:20260421T124636
CREATED:20260105T232504Z
LAST-MODIFIED:20260105T232504Z
UID:4916-1768757400-1768762800@c3carlingford.org.au
SUMMARY:January PM Worship Night
DESCRIPTION:Each new year is full of hope and potential\, and as Christians we know we are fully dependant on God for everything. Our present and our future is only possible through the grace of our Creator. \nAs we start 2026 we’re creating space to worship and surrender our years and lives afresh to God\, so we can press into a faith filled future. Join us on Sunday 18th in the 5:30 PM service for our January Worship Night.
URL:https://c3carlingford.org.au/event/january-pm-worship-night/
LOCATION:Carlingford High School\, Australia
ATTACH;FMTTYPE=image/jpeg:https://c3carlingford.org.au/wp-content/uploads/2026/01/2601-January-Worship-Night-Web.jpeg
ORGANIZER;CN="Andrea Molteno":MAILTO:amolteno@c3carlingford.org.au
END:VEVENT
END:VCALENDAR