BEGIN:VCALENDAR
VERSION:2.0
PRODID:-//C3 Church Carlingford - ECPv6.15.20//NONSGML v1.0//EN
CALSCALE:GREGORIAN
METHOD:PUBLISH
X-WR-CALNAME:C3 Church Carlingford
X-ORIGINAL-URL:https://c3carlingford.org.au
X-WR-CALDESC:Events for C3 Church Carlingford
REFRESH-INTERVAL;VALUE=DURATION:PT1H
X-Robots-Tag:noindex
X-PUBLISHED-TTL:PT1H
BEGIN:VTIMEZONE
TZID:Australia/Sydney
BEGIN:STANDARD
TZOFFSETFROM:+1100
TZOFFSETTO:+1000
TZNAME:AEST
DTSTART:20250405T160000
END:STANDARD
BEGIN:DAYLIGHT
TZOFFSETFROM:+1000
TZOFFSETTO:+1100
TZNAME:AEDT
DTSTART:20251004T160000
END:DAYLIGHT
BEGIN:STANDARD
TZOFFSETFROM:+1100
TZOFFSETTO:+1000
TZNAME:AEST
DTSTART:20260404T160000
END:STANDARD
BEGIN:DAYLIGHT
TZOFFSETFROM:+1000
TZOFFSETTO:+1100
TZNAME:AEDT
DTSTART:20261003T160000
END:DAYLIGHT
BEGIN:STANDARD
TZOFFSETFROM:+1100
TZOFFSETTO:+1000
TZNAME:AEST
DTSTART:20270403T160000
END:STANDARD
BEGIN:DAYLIGHT
TZOFFSETFROM:+1000
TZOFFSETTO:+1100
TZNAME:AEDT
DTSTART:20271002T160000
END:DAYLIGHT
END:VTIMEZONE
BEGIN:VEVENT
DTSTART;TZID=Australia/Sydney:20260304T200000
DTEND;TZID=Australia/Sydney:20260304T210000
DTSTAMP:20260421T172925
CREATED:20260221T220141Z
LAST-MODIFIED:20260223T051934Z
UID:4961-1772654400-1772658000@c3carlingford.org.au
SUMMARY:March Prayer Gathering 2026
DESCRIPTION:Prayer is one of the foundational things we do as followers of Jesus. Prayer with others changes the world and activates our faith. \nOur next prayer gathering is on Wednesday 4th March at 8pm at the Ministry Centre (7 Loftus Road\, Pennant Hills) or via ZOOM (details found in the weekly email). We look forward to joing with you in prayer then!
URL:https://c3carlingford.org.au/event/march-prayer-gathering-2026/
ATTACH;FMTTYPE=image/jpeg:https://c3carlingford.org.au/wp-content/uploads/2024/12/25-Prayer-Web.jpg
END:VEVENT
BEGIN:VEVENT
DTSTART;TZID=Australia/Sydney:20260306T183000
DTEND;TZID=Australia/Sydney:20260308T130000
DTSTAMP:20260421T172925
CREATED:20260105T231912Z
LAST-MODIFIED:20260105T231912Z
UID:4914-1772821800-1772974800@c3carlingford.org.au
SUMMARY:FUSE Camp 2026 - REVIVAL
DESCRIPTION:Save the Date for our annual FUSE Camp! It’s a weekend away for our Youth aged year 6-12 filled with friendship\, fun and encounters with God. \nEvery year FUSE camp powerfully transforms the faith of those who attend\, and this year will be no different! We are expectant to see Young People on fire for Jesus! Their faith will be REVIVED by the Living Water that comes from Him. We know that through encounters with The Holy Spirit Young people will walk away with the knowledge that the same God who is the Alpha and Omega is the God that is WITH them. \nClick HERE to sign up today!\nPayment plans available by contacting Ps Tim via email at tcornell@c3carlingford.org.au
URL:https://c3carlingford.org.au/event/fuse-camp-2026-revival-2/
LOCATION:Camp Kedron\, 7 Emmaus Rd\, Ingleside\, NSW\, 2101\, Australia
ATTACH;FMTTYPE=image/jpeg:https://c3carlingford.org.au/wp-content/uploads/2025/12/2603-Fuse-Web-2.jpg
END:VEVENT
BEGIN:VEVENT
DTSTART;TZID=Australia/Sydney:20260308T123000
DTEND;TZID=Australia/Sydney:20260308T143000
DTSTAMP:20260421T172925
CREATED:20260208T215537Z
LAST-MODIFIED:20260209T062203Z
UID:4955-1772973000-1772980200@c3carlingford.org.au
SUMMARY:Welcome Lunch - March 2026
DESCRIPTION:Our Welcome Lunches are designed for people who are new to church! \nCome and meet some of our pastors and key leaders over a relaxed lunch on Sunday 8th March at our Ministry Centre at 7 Loftus Road\, Pennant Hills. You will have the opportunity to ask questions and find out all about our church. \nLunch will start promptly at 12:30pm and is free but we do need RSVPs for catering purposes by Tuesday 3rd March. \nIf you need childcare or have specific dietary requirements\, please let us know! Book your free spot HERE.
URL:https://c3carlingford.org.au/event/welcome-lunch-march-2026/
LOCATION:Ministry Centre\, 7 Loftus Road\, Pennant Hills\, NSW\, 2120\, Australia
ATTACH;FMTTYPE=image/jpeg:https://c3carlingford.org.au/wp-content/uploads/2024/06/24-WL_web_details.jpg
ORGANIZER;CN="Jen Irving":MAILTO:JIrving@c3carlingford.org.au
END:VEVENT
BEGIN:VEVENT
DTSTART;VALUE=DATE:20260322
DTEND;VALUE=DATE:20260323
DTSTAMP:20260421T172925
CREATED:20260221T220046Z
LAST-MODIFIED:20260223T052041Z
UID:4959-1774137600-1774223999@c3carlingford.org.au
SUMMARY:Water Baptisms - March 2026
DESCRIPTION:One of the most vital things we can do as a Christian is to be water baptised. If you have never taken this step of faith and obedience\, we have an opportunity coming up in all our services on Sunday 22nd March. \nPlease contact Ps. Jen\, Ps. Tim or Ps. Andie in the church office if you are interested. Expressions of interest close on Monday 9th March.
URL:https://c3carlingford.org.au/event/water-baptisms-march-2026/
ATTACH;FMTTYPE=image/jpeg:https://c3carlingford.org.au/wp-content/uploads/2024/03/24-Baptism-Web-1.jpg
END:VEVENT
BEGIN:VEVENT
DTSTART;VALUE=DATE:20260326
DTEND;VALUE=DATE:20260327
DTSTAMP:20260421T172925
CREATED:20260315T230554Z
LAST-MODIFIED:20260315T230554Z
UID:4985-1774483200-1774569599@c3carlingford.org.au
SUMMARY:Global Day of Prayer 2026
DESCRIPTION:Prayer is who we are! As a global movement\, with churches in over 620 locations around the world\, we gather together twice a year\, as a united global family\, to pray and call on God. These events bring us all together\, from our different regions\, to align and focus our hearts in prayer and faith. We are believing to see breakthrough in souls coming to Jesus\, churches planted\, our pastors and leaders equipped and flourishing\, and the next generation rising\, in Jesus name. \nTo join the upcoming Global Day of Prayer zoom meetings at 7am and 7pm click HERE (Zoom Meeting ID: 842 8051 5533 Passcode: 696587)
URL:https://c3carlingford.org.au/event/global-day-of-prayer-2026/
LOCATION:Online
ATTACH;FMTTYPE=image/png:https://c3carlingford.org.au/wp-content/uploads/2026/03/Day-of-Prayer-Email.png
END:VEVENT
BEGIN:VEVENT
DTSTART;TZID=Australia/Sydney:20260326T190000
DTEND;TZID=Australia/Sydney:20260326T203000
DTSTAMP:20260421T172925
CREATED:20260315T214616Z
LAST-MODIFIED:20260315T214616Z
UID:4979-1774551600-1774557000@c3carlingford.org.au
SUMMARY:Keeping Your Cool Seminar
DESCRIPTION:If you’ve ever lost your temper at home and said regrettable things to the people you love\, then this free community seminar is for you. \nMatt Boulton\, creator of the Circuit Breaker Course\, will provide you with practical simple tools to resolve conflict\, improve communication\, and nurture relationships. To register click HERE.
URL:https://c3carlingford.org.au/event/keeping-your-cool-seminar/
LOCATION:Ministry Centre\, 7 Loftus Road\, Pennant Hills\, NSW\, 2120\, Australia
ATTACH;FMTTYPE=image/jpeg:https://c3carlingford.org.au/wp-content/uploads/2026/03/Keeping-Your-Cool.jpg
ORGANIZER;CN="Zoe Stewart":MAILTO:zstewart@c3carlingford.org.au
END:VEVENT
BEGIN:VEVENT
DTSTART;TZID=Australia/Sydney:20260328T100000
DTEND;TZID=Australia/Sydney:20260328T113000
DTSTAMP:20260421T172925
CREATED:20260315T214215Z
LAST-MODIFIED:20260315T214215Z
UID:4976-1774692000-1774697400@c3carlingford.org.au
SUMMARY:Tea @ 10 - March 2026
DESCRIPTION:Tea @ 10 is always a beautiful opportunity for all the women of our church to come together\, connect and share a cuppa. \nOn Saturday\, 28 March\, we’ll gather at Betty-Joy Petschack’s home for a relaxed morning with your favourite hot beverages and something delectable to eat for morning tea. And if there’s a lady you’d like to catch up with – bring her along too! \nClick HERE to register by Monday 23rd March.
URL:https://c3carlingford.org.au/event/tea-10-march-2026/
ATTACH;FMTTYPE=image/jpeg:https://c3carlingford.org.au/wp-content/uploads/2026/03/Tea-@-10.jpeg
ORGANIZER;CN="Laura Samperi":MAILTO:info@c3carlingford.org.au
END:VEVENT
END:VCALENDAR